BEGIN:VCALENDAR
VERSION:2.0
PRODID:-//Explore Waterloo Region - ECPv6.15.19//NONSGML v1.0//EN
CALSCALE:GREGORIAN
METHOD:PUBLISH
X-WR-CALNAME:Explore Waterloo Region
X-ORIGINAL-URL:https://explorewaterloo.ca
X-WR-CALDESC:Events for Explore Waterloo Region
REFRESH-INTERVAL;VALUE=DURATION:PT1H
X-Robots-Tag:noindex
X-PUBLISHED-TTL:PT1H
BEGIN:VTIMEZONE
TZID:America/Toronto
BEGIN:DAYLIGHT
TZOFFSETFROM:-0500
TZOFFSETTO:-0400
TZNAME:EDT
DTSTART:20250309T070000
END:DAYLIGHT
BEGIN:STANDARD
TZOFFSETFROM:-0400
TZOFFSETTO:-0500
TZNAME:EST
DTSTART:20251102T060000
END:STANDARD
BEGIN:DAYLIGHT
TZOFFSETFROM:-0500
TZOFFSETTO:-0400
TZNAME:EDT
DTSTART:20260308T070000
END:DAYLIGHT
BEGIN:STANDARD
TZOFFSETFROM:-0400
TZOFFSETTO:-0500
TZNAME:EST
DTSTART:20261101T060000
END:STANDARD
BEGIN:DAYLIGHT
TZOFFSETFROM:-0500
TZOFFSETTO:-0400
TZNAME:EDT
DTSTART:20270314T070000
END:DAYLIGHT
BEGIN:STANDARD
TZOFFSETFROM:-0400
TZOFFSETTO:-0500
TZNAME:EST
DTSTART:20271107T060000
END:STANDARD
END:VTIMEZONE
BEGIN:VEVENT
DTSTART;TZID=America/Toronto:20260419T140000
DTEND;TZID=America/Toronto:20260419T160000
DTSTAMP:20260421T043050
CREATED:20260421T070044Z
LAST-MODIFIED:20260421T070045Z
UID:10645892-1776607200-1776614400@explorewaterloo.ca
SUMMARY:Glasstime
DESCRIPTION:Get creative with glass! Make your choice of a coaster OR window hanging. Each ticket includes 1 kiln-fired glass item. Our instructor will give a brief lesson on fused glass\, and the rest of the time is yours to create a one-of-a-kind artwork! Get creative with colour and texture to create a unique\, functional piece of art. During the workshop\, please photograph your artwork so you can identify it when it comes out of the kiln.  Artwork Pickup + Kiln Firing:Items will be kiln fired after the workshop by our team of studio technicians. You will be emailed 4-6 weeks after the workshop when items are ready for pick up. You can also check our website here to see if your pieces are ready to be picked up. Groups with children:Children aged 10-14 are welcome to attend the workshop as long as they are accompanied by an adult who also has a ticket. 1 adult can bring up to 2 children (all must have a ticket).
URL:https://explorewaterloo.ca/event/glasstime/2026-04-19/
LOCATION:Canadian Clay and Glass Gallery\, 25 Caroline Street North\, Waterloo\, ON\, N2L 2Y5\, Canada
CATEGORIES:Arts, Culture, Heritage & Live Performance,Event
ATTACH;FMTTYPE=image/jpeg:https://files.explorewaterloo.ca/uploads/2026/03/event-1c2f99cfc8a5ff936662dab06f6f5417.png
END:VEVENT
END:VCALENDAR