BEGIN:VCALENDAR
VERSION:2.0
PRODID:-//Explore Waterloo Region - ECPv6.15.19//NONSGML v1.0//EN
CALSCALE:GREGORIAN
METHOD:PUBLISH
X-ORIGINAL-URL:https://explorewaterloo.ca
X-WR-CALDESC:Events for Explore Waterloo Region
REFRESH-INTERVAL;VALUE=DURATION:PT1H
X-Robots-Tag:noindex
X-PUBLISHED-TTL:PT1H
BEGIN:VTIMEZONE
TZID:America/Toronto
BEGIN:DAYLIGHT
TZOFFSETFROM:-0500
TZOFFSETTO:-0400
TZNAME:EDT
DTSTART:20250309T070000
END:DAYLIGHT
BEGIN:STANDARD
TZOFFSETFROM:-0400
TZOFFSETTO:-0500
TZNAME:EST
DTSTART:20251102T060000
END:STANDARD
BEGIN:DAYLIGHT
TZOFFSETFROM:-0500
TZOFFSETTO:-0400
TZNAME:EDT
DTSTART:20260308T070000
END:DAYLIGHT
BEGIN:STANDARD
TZOFFSETFROM:-0400
TZOFFSETTO:-0500
TZNAME:EST
DTSTART:20261101T060000
END:STANDARD
BEGIN:DAYLIGHT
TZOFFSETFROM:-0500
TZOFFSETTO:-0400
TZNAME:EDT
DTSTART:20270314T070000
END:DAYLIGHT
BEGIN:STANDARD
TZOFFSETFROM:-0400
TZOFFSETTO:-0500
TZNAME:EST
DTSTART:20271107T060000
END:STANDARD
END:VTIMEZONE
BEGIN:VEVENT
DTSTART;TZID=America/Toronto:20260613T190000
DTEND;TZID=America/Toronto:20260613T230000
DTSTAMP:20260423T012909
CREATED:20260422T190437Z
LAST-MODIFIED:20260422T190438Z
UID:10648525-1781377200-1781391600@explorewaterloo.ca
SUMMARY:Waybacks Street Party
DESCRIPTION:Join us in the heart of Hespeler Village for a nostalgic night of music\, dancing\, and community! Once again we’re bringing the Waybacks soundtrack featuring the best throwback Eurodance\, Freestyle\, Reggae\, Dancehall and classic 90s/2000s banger that will keep you dancing all evening! Music by DJ Stevie P (as heard on Z1035) MC @UncleJoey This is a FREE OUTDOOR event taking place rain or shine in Hespeler Village (Cambridge). ***THIS EVENT IS FREE TO THANKS TO OUR SPONSORS*** ▪️Executive Plumbing ▪️MOD Electrical ▪️Cambridge Hot tubs ▪️Patterson Home Comfort
URL:https://explorewaterloo.ca/event/waybacks-street-party/
LOCATION:Hespeler Village\, 5 Queen St. E.\, Cambridge\, ON\, Canada
CATEGORIES:Event
ATTACH;FMTTYPE=image/jpeg:https://files.explorewaterloo.ca/uploads/2026/03/event-8af0e4507a3fbdd29ff34947228e6600.png
END:VEVENT
BEGIN:VEVENT
DTSTART;TZID=America/Toronto:20260621T130000
DTEND;TZID=America/Toronto:20260621T150000
DTSTAMP:20260423T012909
CREATED:20260422T190442Z
LAST-MODIFIED:20260422T190443Z
UID:10648530-1782046800-1782054000@explorewaterloo.ca
SUMMARY:Father’s Day Brunch on the Rails
DESCRIPTION:  Step aboard Waterloo Central Railway and spend a memorable journey with Dad!  You’ll enjoy a nostalgic countryside escape paired with a delicious and hearty lunch. As the train gently rolls through scenic farmland\, enjoy a thoughtfully crafted lunch featuring fresh\, locally inspired ingredients. Appetizer-  Classic Caesar Salad Main Dish – Choice of One:Glazed BBQ Half Rack of Ribs (GF)Tender ribs brushed with house BBQ glaze\, served with a twice-baked potato\, grilled corn on the cob\, and grilled asparagus.ORHearty Stuffed Pepper (GF)Pepper filled with seasoned rice\, garden vegetables\, and lentils\, served alongside grilled corn on the cob and perfectly grilled asparagus. Dessert New York–style cheesecake\, rich and velvety\, topped with sweet strawberry compote.Brewed coffee and a selection of teas served with dessert. This round-trip excursion to Elmira departs from our Farmers Market station located at 330 Farmers Market Road in St. Jacobs.The train will depart on June 21 at 1 PM and will return at approximately 3 PMSeating will be in tables of four.  Space is very limited\, so reserve your tickets today!  
URL:https://explorewaterloo.ca/event/fathers-day-brunch-on-the-rails/
LOCATION:Waterloo Central Railway\, 330 Farmers Market Rd.\, Waterloo\, ON\, Canada
CATEGORIES:Arts, Culture, Heritage & Live Performance,Attractions,Event,Family Friendly,Food & Drink
ATTACH;FMTTYPE=image/jpeg:https://files.explorewaterloo.ca/uploads/2026/03/event-75992032db9e40b85d3576a7da7b23fa-scaled.jpg
END:VEVENT
BEGIN:VEVENT
DTSTART;TZID=America/Toronto:20260626T090000
DTEND;TZID=America/Toronto:20260626T160000
DTSTAMP:20260423T012909
CREATED:20260422T190153Z
LAST-MODIFIED:20260422T190153Z
UID:10649466-1782464400-1782489600@explorewaterloo.ca
SUMMARY:STEMOTICS PD Day Camp
DESCRIPTION:Give your child an unforgettable day of building\, coding\, creating\, and exploring at our STEMOTICS PD Day Camp! Designed for ages 4–12\, this one‑day program blends hands‑on activities with fun\, curiosity‑driven learning. With low camper‑to‑instructor ratios and engaging educators\, every child gets the support they need to learn\, experiment\, and shine. What Kids Will Experience Hands‑on STEM activities across science\, coding\, robotics\, and digital designInteractive building projects using real tools and materialsCreative challenges that spark imagination and problem‑solvingBeginner‑friendly coding through games\, animations\, and digital storytellingRobotics adventures with LEGO®\, VEX GO\, mBot2\, and moreDigital design exploration including 3D modeling\, website creation\, and digital artOptional low‑screen activities like LEGO® builds and art time
URL:https://explorewaterloo.ca/event/stemotics-pd-day-camp/2026-06-26/
LOCATION:Stemotics\, 695 Bishop St. N\, Cambridge\, ON\, N3H 2K8\, Canada
CATEGORIES:Event
ATTACH;FMTTYPE=image/jpeg:https://files.explorewaterloo.ca/uploads/2026/03/event-0f9bd5793787f23f7c4f641c8a352f5a.png
END:VEVENT
END:VCALENDAR