BEGIN:VCALENDAR
VERSION:2.0
PRODID:-//Explore Waterloo Region - ECPv6.15.19//NONSGML v1.0//EN
CALSCALE:GREGORIAN
METHOD:PUBLISH
X-ORIGINAL-URL:https://explorewaterloo.ca
X-WR-CALDESC:Events for Explore Waterloo Region
REFRESH-INTERVAL;VALUE=DURATION:PT1H
X-Robots-Tag:noindex
X-PUBLISHED-TTL:PT1H
BEGIN:VTIMEZONE
TZID:America/Toronto
BEGIN:DAYLIGHT
TZOFFSETFROM:-0500
TZOFFSETTO:-0400
TZNAME:EDT
DTSTART:20250309T070000
END:DAYLIGHT
BEGIN:STANDARD
TZOFFSETFROM:-0400
TZOFFSETTO:-0500
TZNAME:EST
DTSTART:20251102T060000
END:STANDARD
BEGIN:DAYLIGHT
TZOFFSETFROM:-0500
TZOFFSETTO:-0400
TZNAME:EDT
DTSTART:20260308T070000
END:DAYLIGHT
BEGIN:STANDARD
TZOFFSETFROM:-0400
TZOFFSETTO:-0500
TZNAME:EST
DTSTART:20261101T060000
END:STANDARD
BEGIN:DAYLIGHT
TZOFFSETFROM:-0500
TZOFFSETTO:-0400
TZNAME:EDT
DTSTART:20270314T070000
END:DAYLIGHT
BEGIN:STANDARD
TZOFFSETFROM:-0400
TZOFFSETTO:-0500
TZNAME:EST
DTSTART:20271107T060000
END:STANDARD
END:VTIMEZONE
BEGIN:VEVENT
DTSTART;TZID=America/Toronto:20260829T000000
DTEND;TZID=America/Toronto:20260829T235959
DTSTAMP:20260423T042703
CREATED:20260423T070454Z
LAST-MODIFIED:20260423T070455Z
UID:10649728-1787961600-1788047999@explorewaterloo.ca
SUMMARY:Waterloo Railway Expo
DESCRIPTION:Waterloo Railway Exposition is the Railroad Prototype Modelling Meet You Don’t Want To Miss! August 29-30\, 2026 Experience the first Waterloo Railway Expo\, a unique event where the world of railways comes together at every scale\, from full-size 1:1 locomotives to detailed HO scale models and everything in between.Explore incredible model displays by regional prototype modellers\, meet railway preservation groups\, tour the Waterloo Central Railway restoration shop\, attend informative clinics\, visit open house layouts\, and experience the thrill of riding behind historic steam locomotive No. 9. Whether you are a lifelong railfan\, a modeller\, or a curious newcomer\, this is a railway experience you will not find anywhere else. Registration\, model room\, vendors\, and clinics for the RPM show will be located at the Hampton Inn & Suites by Hilton Waterloo St. Jacobs. Buy Tickets
URL:https://explorewaterloo.ca/event/waterloo-railway-expo/
LOCATION:55 Benjamin Road\, 55 Benjamin Road\, Waterloo\, ON\, N2V0C6\, Canada
CATEGORIES:Arts, Culture, Heritage & Live Performance,Attractions,Event,Family Friendly
ATTACH;FMTTYPE=image/jpeg:https://files.explorewaterloo.ca/uploads/2026/03/event-e24bb9c0341680b74834db44ca723381.jpg
END:VEVENT
END:VCALENDAR