BEGIN:VCALENDAR
VERSION:2.0
PRODID:-//Explore Waterloo Region - ECPv6.15.19//NONSGML v1.0//EN
CALSCALE:GREGORIAN
METHOD:PUBLISH
X-WR-CALNAME:Explore Waterloo Region
X-ORIGINAL-URL:https://explorewaterloo.ca
X-WR-CALDESC:Events for Explore Waterloo Region
REFRESH-INTERVAL;VALUE=DURATION:PT1H
X-Robots-Tag:noindex
X-PUBLISHED-TTL:PT1H
BEGIN:VTIMEZONE
TZID:America/Toronto
BEGIN:DAYLIGHT
TZOFFSETFROM:-0500
TZOFFSETTO:-0400
TZNAME:EDT
DTSTART:20250309T070000
END:DAYLIGHT
BEGIN:STANDARD
TZOFFSETFROM:-0400
TZOFFSETTO:-0500
TZNAME:EST
DTSTART:20251102T060000
END:STANDARD
BEGIN:DAYLIGHT
TZOFFSETFROM:-0500
TZOFFSETTO:-0400
TZNAME:EDT
DTSTART:20260308T070000
END:DAYLIGHT
BEGIN:STANDARD
TZOFFSETFROM:-0400
TZOFFSETTO:-0500
TZNAME:EST
DTSTART:20261101T060000
END:STANDARD
BEGIN:DAYLIGHT
TZOFFSETFROM:-0500
TZOFFSETTO:-0400
TZNAME:EDT
DTSTART:20270314T070000
END:DAYLIGHT
BEGIN:STANDARD
TZOFFSETFROM:-0400
TZOFFSETTO:-0500
TZNAME:EST
DTSTART:20271107T060000
END:STANDARD
END:VTIMEZONE
BEGIN:VEVENT
DTSTART;TZID=America/Toronto:20260120T100000
DTEND;TZID=America/Toronto:20260120T160000
DTSTAMP:20260420T133836
CREATED:20260420T151103Z
LAST-MODIFIED:20260420T151103Z
UID:10643610-1768903200-1768924800@explorewaterloo.ca
SUMMARY:A Distiller’s Tale: The Art and Legacy of the Seagram Distillery
DESCRIPTION:Discover the rich history\, craftsmanship\, and local impact of Waterloo’s iconic whisky industry in a fun\, family-friendly environment. This engaging exhibit features hands-on interactives for all ages\, making it a perfect outing for curious minds. Visit us at Conestoga Mall — and remember\, admission is always free! On until May 1\, 2026.
URL:https://explorewaterloo.ca/event/a-distillers-tale-the-art-and-legacy-of-the-seagram-distillery-3/
LOCATION:City of Waterloo Museum\, 550 King Street North\, Waterloo\, ON\, Canada
CATEGORIES:Arts, Culture, Heritage & Live Performance,Event,Family Friendly,Free Events
ATTACH;FMTTYPE=image/jpeg:https://files.explorewaterloo.ca/uploads/2025/07/event-eb97fb4351c6912e7a1914bb86ee2d7a.jpg
ORGANIZER;CN="City of Waterloo Museum":MAILTO:museum@waterloo.ca
END:VEVENT
BEGIN:VEVENT
DTSTART;TZID=America/Toronto:20260121T100000
DTEND;TZID=America/Toronto:20260121T160000
DTSTAMP:20260420T133836
CREATED:20260420T151104Z
LAST-MODIFIED:20260420T151104Z
UID:10643608-1768989600-1769011200@explorewaterloo.ca
SUMMARY:A Distiller’s Tale: The Art and Legacy of the Seagram Distillery
DESCRIPTION:Discover the rich history\, craftsmanship\, and local impact of Waterloo’s iconic whisky industry in a fun\, family-friendly environment. This engaging exhibit features hands-on interactives for all ages\, making it a perfect outing for curious minds. Visit us at Conestoga Mall — and remember\, admission is always free! On until May 1\, 2026.
URL:https://explorewaterloo.ca/event/a-distillers-tale-the-art-and-legacy-of-the-seagram-distillery-4/
LOCATION:City of Waterloo Museum\, 550 King Street North\, Waterloo\, ON\, Canada
CATEGORIES:Arts, Culture, Heritage & Live Performance,Event,Family Friendly,Free Events
ATTACH;FMTTYPE=image/jpeg:https://files.explorewaterloo.ca/uploads/2025/07/event-eb97fb4351c6912e7a1914bb86ee2d7a.jpg
ORGANIZER;CN="City of Waterloo Museum":MAILTO:museum@waterloo.ca
END:VEVENT
BEGIN:VEVENT
DTSTART;TZID=America/Toronto:20260122T100000
DTEND;TZID=America/Toronto:20260122T160000
DTSTAMP:20260420T133836
CREATED:20260420T151106Z
LAST-MODIFIED:20260420T151106Z
UID:10643609-1769076000-1769097600@explorewaterloo.ca
SUMMARY:A Distiller’s Tale: The Art and Legacy of the Seagram Distillery
DESCRIPTION:Discover the rich history\, craftsmanship\, and local impact of Waterloo’s iconic whisky industry in a fun\, family-friendly environment. This engaging exhibit features hands-on interactives for all ages\, making it a perfect outing for curious minds. Visit us at Conestoga Mall — and remember\, admission is always free! On until May 1\, 2026.
URL:https://explorewaterloo.ca/event/a-distillers-tale-the-art-and-legacy-of-the-seagram-distillery-5/
LOCATION:City of Waterloo Museum\, 550 King Street North\, Waterloo\, ON\, Canada
CATEGORIES:Arts, Culture, Heritage & Live Performance,Event,Family Friendly,Free Events
ATTACH;FMTTYPE=image/jpeg:https://files.explorewaterloo.ca/uploads/2025/07/event-eb97fb4351c6912e7a1914bb86ee2d7a.jpg
ORGANIZER;CN="City of Waterloo Museum":MAILTO:museum@waterloo.ca
END:VEVENT
BEGIN:VEVENT
DTSTART;TZID=America/Toronto:20260127T100000
DTEND;TZID=America/Toronto:20260127T160000
DTSTAMP:20260420T133836
CREATED:20260420T151107Z
LAST-MODIFIED:20260420T151107Z
UID:10643612-1769508000-1769529600@explorewaterloo.ca
SUMMARY:A Distiller’s Tale: The Art and Legacy of the Seagram Distillery
DESCRIPTION:Discover the rich history\, craftsmanship\, and local impact of Waterloo’s iconic whisky industry in a fun\, family-friendly environment. This engaging exhibit features hands-on interactives for all ages\, making it a perfect outing for curious minds. Visit us at Conestoga Mall — and remember\, admission is always free! On until May 1\, 2026.
URL:https://explorewaterloo.ca/event/a-distillers-tale-the-art-and-legacy-of-the-seagram-distillery-6/
LOCATION:City of Waterloo Museum\, 550 King Street North\, Waterloo\, ON\, Canada
CATEGORIES:Arts, Culture, Heritage & Live Performance,Event,Family Friendly,Free Events
ATTACH;FMTTYPE=image/jpeg:https://files.explorewaterloo.ca/uploads/2025/07/event-eb97fb4351c6912e7a1914bb86ee2d7a.jpg
ORGANIZER;CN="City of Waterloo Museum":MAILTO:museum@waterloo.ca
END:VEVENT
END:VCALENDAR