BEGIN:VCALENDAR
VERSION:2.0
PRODID:-//Explore Waterloo Region - ECPv6.15.19//NONSGML v1.0//EN
CALSCALE:GREGORIAN
METHOD:PUBLISH
X-ORIGINAL-URL:https://explorewaterloo.ca
X-WR-CALDESC:Events for Explore Waterloo Region
REFRESH-INTERVAL;VALUE=DURATION:PT1H
X-Robots-Tag:noindex
X-PUBLISHED-TTL:PT1H
BEGIN:VTIMEZONE
TZID:America/Toronto
BEGIN:DAYLIGHT
TZOFFSETFROM:-0500
TZOFFSETTO:-0400
TZNAME:EDT
DTSTART:20250309T070000
END:DAYLIGHT
BEGIN:STANDARD
TZOFFSETFROM:-0400
TZOFFSETTO:-0500
TZNAME:EST
DTSTART:20251102T060000
END:STANDARD
BEGIN:DAYLIGHT
TZOFFSETFROM:-0500
TZOFFSETTO:-0400
TZNAME:EDT
DTSTART:20260308T070000
END:DAYLIGHT
BEGIN:STANDARD
TZOFFSETFROM:-0400
TZOFFSETTO:-0500
TZNAME:EST
DTSTART:20261101T060000
END:STANDARD
BEGIN:DAYLIGHT
TZOFFSETFROM:-0500
TZOFFSETTO:-0400
TZNAME:EDT
DTSTART:20270314T070000
END:DAYLIGHT
BEGIN:STANDARD
TZOFFSETFROM:-0400
TZOFFSETTO:-0500
TZNAME:EST
DTSTART:20271107T060000
END:STANDARD
END:VTIMEZONE
BEGIN:VEVENT
DTSTART;TZID=America/Toronto:20260303T100000
DTEND;TZID=America/Toronto:20260303T160000
DTSTAMP:20260420T105429
CREATED:20260420T070021Z
LAST-MODIFIED:20260420T070022Z
UID:10642700-1772532000-1772553600@explorewaterloo.ca
SUMMARY:A Distiller’s Tale: The Art and Legacy of the Seagram Distillery
DESCRIPTION:Discover the rich history\, craftsmanship\, and local impact of Waterloo’s iconic whisky industry in a fun\, family-friendly environment. This engaging exhibit features hands-on interactives for all ages\, making it a perfect outing for curious minds. Visit us at Conestoga Mall — and remember\, admission is always free! On until May 1\, 2026.
URL:https://explorewaterloo.ca/event/a-distillers-tale-the-art-and-legacy-of-the-seagram-distillery/2026-03-03/
LOCATION:City of Waterloo Museum\, 550 King Street North\, Waterloo\, ON\, Canada
CATEGORIES:Arts, Culture, Heritage & Live Performance,Event,Family Friendly,Free Events
ATTACH;FMTTYPE=image/jpeg:https://files.explorewaterloo.ca/uploads/2025/07/event-eb97fb4351c6912e7a1914bb86ee2d7a.jpg
ORGANIZER;CN="City of Waterloo Museum":MAILTO:museum@waterloo.ca
END:VEVENT
BEGIN:VEVENT
DTSTART;TZID=America/Toronto:20260304T100000
DTEND;TZID=America/Toronto:20260304T160000
DTSTAMP:20260420T105429
CREATED:20260420T070021Z
LAST-MODIFIED:20260420T070022Z
UID:10642701-1772618400-1772640000@explorewaterloo.ca
SUMMARY:A Distiller’s Tale: The Art and Legacy of the Seagram Distillery
DESCRIPTION:Discover the rich history\, craftsmanship\, and local impact of Waterloo’s iconic whisky industry in a fun\, family-friendly environment. This engaging exhibit features hands-on interactives for all ages\, making it a perfect outing for curious minds. Visit us at Conestoga Mall — and remember\, admission is always free! On until May 1\, 2026.
URL:https://explorewaterloo.ca/event/a-distillers-tale-the-art-and-legacy-of-the-seagram-distillery/2026-03-04/
LOCATION:City of Waterloo Museum\, 550 King Street North\, Waterloo\, ON\, Canada
CATEGORIES:Arts, Culture, Heritage & Live Performance,Event,Family Friendly,Free Events
ATTACH;FMTTYPE=image/jpeg:https://files.explorewaterloo.ca/uploads/2025/07/event-eb97fb4351c6912e7a1914bb86ee2d7a.jpg
ORGANIZER;CN="City of Waterloo Museum":MAILTO:museum@waterloo.ca
END:VEVENT
BEGIN:VEVENT
DTSTART;TZID=America/Toronto:20260305T100000
DTEND;TZID=America/Toronto:20260305T160000
DTSTAMP:20260420T105429
CREATED:20260420T070021Z
LAST-MODIFIED:20260420T070022Z
UID:10642702-1772704800-1772726400@explorewaterloo.ca
SUMMARY:A Distiller’s Tale: The Art and Legacy of the Seagram Distillery
DESCRIPTION:Discover the rich history\, craftsmanship\, and local impact of Waterloo’s iconic whisky industry in a fun\, family-friendly environment. This engaging exhibit features hands-on interactives for all ages\, making it a perfect outing for curious minds. Visit us at Conestoga Mall — and remember\, admission is always free! On until May 1\, 2026.
URL:https://explorewaterloo.ca/event/a-distillers-tale-the-art-and-legacy-of-the-seagram-distillery/2026-03-05/
LOCATION:City of Waterloo Museum\, 550 King Street North\, Waterloo\, ON\, Canada
CATEGORIES:Arts, Culture, Heritage & Live Performance,Event,Family Friendly,Free Events
ATTACH;FMTTYPE=image/jpeg:https://files.explorewaterloo.ca/uploads/2025/07/event-eb97fb4351c6912e7a1914bb86ee2d7a.jpg
ORGANIZER;CN="City of Waterloo Museum":MAILTO:museum@waterloo.ca
END:VEVENT
BEGIN:VEVENT
DTSTART;TZID=America/Toronto:20260306T100000
DTEND;TZID=America/Toronto:20260306T160000
DTSTAMP:20260420T105429
CREATED:20260420T070021Z
LAST-MODIFIED:20260420T070022Z
UID:10642703-1772791200-1772812800@explorewaterloo.ca
SUMMARY:A Distiller’s Tale: The Art and Legacy of the Seagram Distillery
DESCRIPTION:Discover the rich history\, craftsmanship\, and local impact of Waterloo’s iconic whisky industry in a fun\, family-friendly environment. This engaging exhibit features hands-on interactives for all ages\, making it a perfect outing for curious minds. Visit us at Conestoga Mall — and remember\, admission is always free! On until May 1\, 2026.
URL:https://explorewaterloo.ca/event/a-distillers-tale-the-art-and-legacy-of-the-seagram-distillery/2026-03-06/
LOCATION:City of Waterloo Museum\, 550 King Street North\, Waterloo\, ON\, Canada
CATEGORIES:Arts, Culture, Heritage & Live Performance,Event,Family Friendly,Free Events
ATTACH;FMTTYPE=image/jpeg:https://files.explorewaterloo.ca/uploads/2025/07/event-eb97fb4351c6912e7a1914bb86ee2d7a.jpg
ORGANIZER;CN="City of Waterloo Museum":MAILTO:museum@waterloo.ca
END:VEVENT
BEGIN:VEVENT
DTSTART;TZID=America/Toronto:20260310T100000
DTEND;TZID=America/Toronto:20260310T160000
DTSTAMP:20260420T105429
CREATED:20260420T070021Z
LAST-MODIFIED:20260420T070022Z
UID:10642704-1773136800-1773158400@explorewaterloo.ca
SUMMARY:A Distiller’s Tale: The Art and Legacy of the Seagram Distillery
DESCRIPTION:Discover the rich history\, craftsmanship\, and local impact of Waterloo’s iconic whisky industry in a fun\, family-friendly environment. This engaging exhibit features hands-on interactives for all ages\, making it a perfect outing for curious minds. Visit us at Conestoga Mall — and remember\, admission is always free! On until May 1\, 2026.
URL:https://explorewaterloo.ca/event/a-distillers-tale-the-art-and-legacy-of-the-seagram-distillery/2026-03-10/
LOCATION:City of Waterloo Museum\, 550 King Street North\, Waterloo\, ON\, Canada
CATEGORIES:Arts, Culture, Heritage & Live Performance,Event,Family Friendly,Free Events
ATTACH;FMTTYPE=image/jpeg:https://files.explorewaterloo.ca/uploads/2025/07/event-eb97fb4351c6912e7a1914bb86ee2d7a.jpg
ORGANIZER;CN="City of Waterloo Museum":MAILTO:museum@waterloo.ca
END:VEVENT
BEGIN:VEVENT
DTSTART;TZID=America/Toronto:20260311T100000
DTEND;TZID=America/Toronto:20260311T160000
DTSTAMP:20260420T105429
CREATED:20260420T070021Z
LAST-MODIFIED:20260420T070022Z
UID:10642705-1773223200-1773244800@explorewaterloo.ca
SUMMARY:A Distiller’s Tale: The Art and Legacy of the Seagram Distillery
DESCRIPTION:Discover the rich history\, craftsmanship\, and local impact of Waterloo’s iconic whisky industry in a fun\, family-friendly environment. This engaging exhibit features hands-on interactives for all ages\, making it a perfect outing for curious minds. Visit us at Conestoga Mall — and remember\, admission is always free! On until May 1\, 2026.
URL:https://explorewaterloo.ca/event/a-distillers-tale-the-art-and-legacy-of-the-seagram-distillery/2026-03-11/
LOCATION:City of Waterloo Museum\, 550 King Street North\, Waterloo\, ON\, Canada
CATEGORIES:Arts, Culture, Heritage & Live Performance,Event,Family Friendly,Free Events
ATTACH;FMTTYPE=image/jpeg:https://files.explorewaterloo.ca/uploads/2025/07/event-eb97fb4351c6912e7a1914bb86ee2d7a.jpg
ORGANIZER;CN="City of Waterloo Museum":MAILTO:museum@waterloo.ca
END:VEVENT
BEGIN:VEVENT
DTSTART;TZID=America/Toronto:20260312T100000
DTEND;TZID=America/Toronto:20260312T160000
DTSTAMP:20260420T105429
CREATED:20260420T070021Z
LAST-MODIFIED:20260420T070022Z
UID:10642706-1773309600-1773331200@explorewaterloo.ca
SUMMARY:A Distiller’s Tale: The Art and Legacy of the Seagram Distillery
DESCRIPTION:Discover the rich history\, craftsmanship\, and local impact of Waterloo’s iconic whisky industry in a fun\, family-friendly environment. This engaging exhibit features hands-on interactives for all ages\, making it a perfect outing for curious minds. Visit us at Conestoga Mall — and remember\, admission is always free! On until May 1\, 2026.
URL:https://explorewaterloo.ca/event/a-distillers-tale-the-art-and-legacy-of-the-seagram-distillery/2026-03-12/
LOCATION:City of Waterloo Museum\, 550 King Street North\, Waterloo\, ON\, Canada
CATEGORIES:Arts, Culture, Heritage & Live Performance,Event,Family Friendly,Free Events
ATTACH;FMTTYPE=image/jpeg:https://files.explorewaterloo.ca/uploads/2025/07/event-eb97fb4351c6912e7a1914bb86ee2d7a.jpg
ORGANIZER;CN="City of Waterloo Museum":MAILTO:museum@waterloo.ca
END:VEVENT
BEGIN:VEVENT
DTSTART;TZID=America/Toronto:20260313T100000
DTEND;TZID=America/Toronto:20260313T160000
DTSTAMP:20260420T105429
CREATED:20260420T070021Z
LAST-MODIFIED:20260420T070022Z
UID:10642707-1773396000-1773417600@explorewaterloo.ca
SUMMARY:A Distiller’s Tale: The Art and Legacy of the Seagram Distillery
DESCRIPTION:Discover the rich history\, craftsmanship\, and local impact of Waterloo’s iconic whisky industry in a fun\, family-friendly environment. This engaging exhibit features hands-on interactives for all ages\, making it a perfect outing for curious minds. Visit us at Conestoga Mall — and remember\, admission is always free! On until May 1\, 2026.
URL:https://explorewaterloo.ca/event/a-distillers-tale-the-art-and-legacy-of-the-seagram-distillery/2026-03-13/
LOCATION:City of Waterloo Museum\, 550 King Street North\, Waterloo\, ON\, Canada
CATEGORIES:Arts, Culture, Heritage & Live Performance,Event,Family Friendly,Free Events
ATTACH;FMTTYPE=image/jpeg:https://files.explorewaterloo.ca/uploads/2025/07/event-eb97fb4351c6912e7a1914bb86ee2d7a.jpg
ORGANIZER;CN="City of Waterloo Museum":MAILTO:museum@waterloo.ca
END:VEVENT
BEGIN:VEVENT
DTSTART;TZID=America/Toronto:20260317T100000
DTEND;TZID=America/Toronto:20260317T160000
DTSTAMP:20260420T105429
CREATED:20260420T070021Z
LAST-MODIFIED:20260420T070022Z
UID:10642708-1773741600-1773763200@explorewaterloo.ca
SUMMARY:A Distiller’s Tale: The Art and Legacy of the Seagram Distillery
DESCRIPTION:Discover the rich history\, craftsmanship\, and local impact of Waterloo’s iconic whisky industry in a fun\, family-friendly environment. This engaging exhibit features hands-on interactives for all ages\, making it a perfect outing for curious minds. Visit us at Conestoga Mall — and remember\, admission is always free! On until May 1\, 2026.
URL:https://explorewaterloo.ca/event/a-distillers-tale-the-art-and-legacy-of-the-seagram-distillery/2026-03-17/
LOCATION:City of Waterloo Museum\, 550 King Street North\, Waterloo\, ON\, Canada
CATEGORIES:Arts, Culture, Heritage & Live Performance,Event,Family Friendly,Free Events
ATTACH;FMTTYPE=image/jpeg:https://files.explorewaterloo.ca/uploads/2025/07/event-eb97fb4351c6912e7a1914bb86ee2d7a.jpg
ORGANIZER;CN="City of Waterloo Museum":MAILTO:museum@waterloo.ca
END:VEVENT
BEGIN:VEVENT
DTSTART;TZID=America/Toronto:20260318T100000
DTEND;TZID=America/Toronto:20260318T160000
DTSTAMP:20260420T105429
CREATED:20260420T070021Z
LAST-MODIFIED:20260420T070022Z
UID:10642709-1773828000-1773849600@explorewaterloo.ca
SUMMARY:A Distiller’s Tale: The Art and Legacy of the Seagram Distillery
DESCRIPTION:Discover the rich history\, craftsmanship\, and local impact of Waterloo’s iconic whisky industry in a fun\, family-friendly environment. This engaging exhibit features hands-on interactives for all ages\, making it a perfect outing for curious minds. Visit us at Conestoga Mall — and remember\, admission is always free! On until May 1\, 2026.
URL:https://explorewaterloo.ca/event/a-distillers-tale-the-art-and-legacy-of-the-seagram-distillery/2026-03-18/
LOCATION:City of Waterloo Museum\, 550 King Street North\, Waterloo\, ON\, Canada
CATEGORIES:Arts, Culture, Heritage & Live Performance,Event,Family Friendly,Free Events
ATTACH;FMTTYPE=image/jpeg:https://files.explorewaterloo.ca/uploads/2025/07/event-eb97fb4351c6912e7a1914bb86ee2d7a.jpg
ORGANIZER;CN="City of Waterloo Museum":MAILTO:museum@waterloo.ca
END:VEVENT
BEGIN:VEVENT
DTSTART;TZID=America/Toronto:20260319T100000
DTEND;TZID=America/Toronto:20260319T160000
DTSTAMP:20260420T105429
CREATED:20260420T070021Z
LAST-MODIFIED:20260420T070022Z
UID:10642710-1773914400-1773936000@explorewaterloo.ca
SUMMARY:A Distiller’s Tale: The Art and Legacy of the Seagram Distillery
DESCRIPTION:Discover the rich history\, craftsmanship\, and local impact of Waterloo’s iconic whisky industry in a fun\, family-friendly environment. This engaging exhibit features hands-on interactives for all ages\, making it a perfect outing for curious minds. Visit us at Conestoga Mall — and remember\, admission is always free! On until May 1\, 2026.
URL:https://explorewaterloo.ca/event/a-distillers-tale-the-art-and-legacy-of-the-seagram-distillery/2026-03-19/
LOCATION:City of Waterloo Museum\, 550 King Street North\, Waterloo\, ON\, Canada
CATEGORIES:Arts, Culture, Heritage & Live Performance,Event,Family Friendly,Free Events
ATTACH;FMTTYPE=image/jpeg:https://files.explorewaterloo.ca/uploads/2025/07/event-eb97fb4351c6912e7a1914bb86ee2d7a.jpg
ORGANIZER;CN="City of Waterloo Museum":MAILTO:museum@waterloo.ca
END:VEVENT
BEGIN:VEVENT
DTSTART;TZID=America/Toronto:20260320T100000
DTEND;TZID=America/Toronto:20260320T160000
DTSTAMP:20260420T105429
CREATED:20260420T070021Z
LAST-MODIFIED:20260420T070022Z
UID:10642711-1774000800-1774022400@explorewaterloo.ca
SUMMARY:A Distiller’s Tale: The Art and Legacy of the Seagram Distillery
DESCRIPTION:Discover the rich history\, craftsmanship\, and local impact of Waterloo’s iconic whisky industry in a fun\, family-friendly environment. This engaging exhibit features hands-on interactives for all ages\, making it a perfect outing for curious minds. Visit us at Conestoga Mall — and remember\, admission is always free! On until May 1\, 2026.
URL:https://explorewaterloo.ca/event/a-distillers-tale-the-art-and-legacy-of-the-seagram-distillery/2026-03-20/
LOCATION:City of Waterloo Museum\, 550 King Street North\, Waterloo\, ON\, Canada
CATEGORIES:Arts, Culture, Heritage & Live Performance,Event,Family Friendly,Free Events
ATTACH;FMTTYPE=image/jpeg:https://files.explorewaterloo.ca/uploads/2025/07/event-eb97fb4351c6912e7a1914bb86ee2d7a.jpg
ORGANIZER;CN="City of Waterloo Museum":MAILTO:museum@waterloo.ca
END:VEVENT
BEGIN:VEVENT
DTSTART;TZID=America/Toronto:20260324T100000
DTEND;TZID=America/Toronto:20260324T160000
DTSTAMP:20260420T105429
CREATED:20260420T070021Z
LAST-MODIFIED:20260420T070022Z
UID:10642712-1774346400-1774368000@explorewaterloo.ca
SUMMARY:A Distiller’s Tale: The Art and Legacy of the Seagram Distillery
DESCRIPTION:Discover the rich history\, craftsmanship\, and local impact of Waterloo’s iconic whisky industry in a fun\, family-friendly environment. This engaging exhibit features hands-on interactives for all ages\, making it a perfect outing for curious minds. Visit us at Conestoga Mall — and remember\, admission is always free! On until May 1\, 2026.
URL:https://explorewaterloo.ca/event/a-distillers-tale-the-art-and-legacy-of-the-seagram-distillery/2026-03-24/
LOCATION:City of Waterloo Museum\, 550 King Street North\, Waterloo\, ON\, Canada
CATEGORIES:Arts, Culture, Heritage & Live Performance,Event,Family Friendly,Free Events
ATTACH;FMTTYPE=image/jpeg:https://files.explorewaterloo.ca/uploads/2025/07/event-eb97fb4351c6912e7a1914bb86ee2d7a.jpg
ORGANIZER;CN="City of Waterloo Museum":MAILTO:museum@waterloo.ca
END:VEVENT
BEGIN:VEVENT
DTSTART;TZID=America/Toronto:20260325T100000
DTEND;TZID=America/Toronto:20260325T160000
DTSTAMP:20260420T105429
CREATED:20260420T070021Z
LAST-MODIFIED:20260420T070022Z
UID:10642713-1774432800-1774454400@explorewaterloo.ca
SUMMARY:A Distiller’s Tale: The Art and Legacy of the Seagram Distillery
DESCRIPTION:Discover the rich history\, craftsmanship\, and local impact of Waterloo’s iconic whisky industry in a fun\, family-friendly environment. This engaging exhibit features hands-on interactives for all ages\, making it a perfect outing for curious minds. Visit us at Conestoga Mall — and remember\, admission is always free! On until May 1\, 2026.
URL:https://explorewaterloo.ca/event/a-distillers-tale-the-art-and-legacy-of-the-seagram-distillery/2026-03-25/
LOCATION:City of Waterloo Museum\, 550 King Street North\, Waterloo\, ON\, Canada
CATEGORIES:Arts, Culture, Heritage & Live Performance,Event,Family Friendly,Free Events
ATTACH;FMTTYPE=image/jpeg:https://files.explorewaterloo.ca/uploads/2025/07/event-eb97fb4351c6912e7a1914bb86ee2d7a.jpg
ORGANIZER;CN="City of Waterloo Museum":MAILTO:museum@waterloo.ca
END:VEVENT
BEGIN:VEVENT
DTSTART;TZID=America/Toronto:20260326T100000
DTEND;TZID=America/Toronto:20260326T160000
DTSTAMP:20260420T105429
CREATED:20260420T070021Z
LAST-MODIFIED:20260420T070022Z
UID:10642714-1774519200-1774540800@explorewaterloo.ca
SUMMARY:A Distiller’s Tale: The Art and Legacy of the Seagram Distillery
DESCRIPTION:Discover the rich history\, craftsmanship\, and local impact of Waterloo’s iconic whisky industry in a fun\, family-friendly environment. This engaging exhibit features hands-on interactives for all ages\, making it a perfect outing for curious minds. Visit us at Conestoga Mall — and remember\, admission is always free! On until May 1\, 2026.
URL:https://explorewaterloo.ca/event/a-distillers-tale-the-art-and-legacy-of-the-seagram-distillery/2026-03-26/
LOCATION:City of Waterloo Museum\, 550 King Street North\, Waterloo\, ON\, Canada
CATEGORIES:Arts, Culture, Heritage & Live Performance,Event,Family Friendly,Free Events
ATTACH;FMTTYPE=image/jpeg:https://files.explorewaterloo.ca/uploads/2025/07/event-eb97fb4351c6912e7a1914bb86ee2d7a.jpg
ORGANIZER;CN="City of Waterloo Museum":MAILTO:museum@waterloo.ca
END:VEVENT
BEGIN:VEVENT
DTSTART;TZID=America/Toronto:20260327T100000
DTEND;TZID=America/Toronto:20260327T160000
DTSTAMP:20260420T105429
CREATED:20260420T070021Z
LAST-MODIFIED:20260420T070022Z
UID:10642715-1774605600-1774627200@explorewaterloo.ca
SUMMARY:A Distiller’s Tale: The Art and Legacy of the Seagram Distillery
DESCRIPTION:Discover the rich history\, craftsmanship\, and local impact of Waterloo’s iconic whisky industry in a fun\, family-friendly environment. This engaging exhibit features hands-on interactives for all ages\, making it a perfect outing for curious minds. Visit us at Conestoga Mall — and remember\, admission is always free! On until May 1\, 2026.
URL:https://explorewaterloo.ca/event/a-distillers-tale-the-art-and-legacy-of-the-seagram-distillery/2026-03-27/
LOCATION:City of Waterloo Museum\, 550 King Street North\, Waterloo\, ON\, Canada
CATEGORIES:Arts, Culture, Heritage & Live Performance,Event,Family Friendly,Free Events
ATTACH;FMTTYPE=image/jpeg:https://files.explorewaterloo.ca/uploads/2025/07/event-eb97fb4351c6912e7a1914bb86ee2d7a.jpg
ORGANIZER;CN="City of Waterloo Museum":MAILTO:museum@waterloo.ca
END:VEVENT
BEGIN:VEVENT
DTSTART;TZID=America/Toronto:20260331T100000
DTEND;TZID=America/Toronto:20260331T160000
DTSTAMP:20260420T105429
CREATED:20260420T070021Z
LAST-MODIFIED:20260420T070022Z
UID:10642716-1774951200-1774972800@explorewaterloo.ca
SUMMARY:A Distiller’s Tale: The Art and Legacy of the Seagram Distillery
DESCRIPTION:Discover the rich history\, craftsmanship\, and local impact of Waterloo’s iconic whisky industry in a fun\, family-friendly environment. This engaging exhibit features hands-on interactives for all ages\, making it a perfect outing for curious minds. Visit us at Conestoga Mall — and remember\, admission is always free! On until May 1\, 2026.
URL:https://explorewaterloo.ca/event/a-distillers-tale-the-art-and-legacy-of-the-seagram-distillery/2026-03-31/
LOCATION:City of Waterloo Museum\, 550 King Street North\, Waterloo\, ON\, Canada
CATEGORIES:Arts, Culture, Heritage & Live Performance,Event,Family Friendly,Free Events
ATTACH;FMTTYPE=image/jpeg:https://files.explorewaterloo.ca/uploads/2025/07/event-eb97fb4351c6912e7a1914bb86ee2d7a.jpg
ORGANIZER;CN="City of Waterloo Museum":MAILTO:museum@waterloo.ca
END:VEVENT
END:VCALENDAR