BEGIN:VCALENDAR
VERSION:2.0
PRODID:-//Explore Waterloo Region - ECPv6.15.19//NONSGML v1.0//EN
CALSCALE:GREGORIAN
METHOD:PUBLISH
X-WR-CALNAME:Explore Waterloo Region
X-ORIGINAL-URL:https://explorewaterloo.ca
X-WR-CALDESC:Events for Explore Waterloo Region
REFRESH-INTERVAL;VALUE=DURATION:PT1H
X-Robots-Tag:noindex
X-PUBLISHED-TTL:PT1H
BEGIN:VTIMEZONE
TZID:America/Toronto
BEGIN:DAYLIGHT
TZOFFSETFROM:-0500
TZOFFSETTO:-0400
TZNAME:EDT
DTSTART:20250309T070000
END:DAYLIGHT
BEGIN:STANDARD
TZOFFSETFROM:-0400
TZOFFSETTO:-0500
TZNAME:EST
DTSTART:20251102T060000
END:STANDARD
BEGIN:DAYLIGHT
TZOFFSETFROM:-0500
TZOFFSETTO:-0400
TZNAME:EDT
DTSTART:20260308T070000
END:DAYLIGHT
BEGIN:STANDARD
TZOFFSETFROM:-0400
TZOFFSETTO:-0500
TZNAME:EST
DTSTART:20261101T060000
END:STANDARD
BEGIN:DAYLIGHT
TZOFFSETFROM:-0500
TZOFFSETTO:-0400
TZNAME:EDT
DTSTART:20270314T070000
END:DAYLIGHT
BEGIN:STANDARD
TZOFFSETFROM:-0400
TZOFFSETTO:-0500
TZNAME:EST
DTSTART:20271107T060000
END:STANDARD
END:VTIMEZONE
BEGIN:VEVENT
DTSTART;TZID=America/Toronto:20260501T100000
DTEND;TZID=America/Toronto:20260501T160000
DTSTAMP:20260420T105816
CREATED:20260420T070021Z
LAST-MODIFIED:20260420T070022Z
UID:10642735-1777629600-1777651200@explorewaterloo.ca
SUMMARY:A Distiller’s Tale: The Art and Legacy of the Seagram Distillery
DESCRIPTION:Discover the rich history\, craftsmanship\, and local impact of Waterloo’s iconic whisky industry in a fun\, family-friendly environment. This engaging exhibit features hands-on interactives for all ages\, making it a perfect outing for curious minds. Visit us at Conestoga Mall — and remember\, admission is always free! On until May 1\, 2026.
URL:https://explorewaterloo.ca/event/a-distillers-tale-the-art-and-legacy-of-the-seagram-distillery/2026-05-01/
LOCATION:City of Waterloo Museum\, 550 King Street North\, Waterloo\, ON\, Canada
CATEGORIES:Arts, Culture, Heritage & Live Performance,Event,Family Friendly,Free Events
ATTACH;FMTTYPE=image/jpeg:https://files.explorewaterloo.ca/uploads/2025/07/event-eb97fb4351c6912e7a1914bb86ee2d7a.jpg
ORGANIZER;CN="City of Waterloo Museum":MAILTO:museum@waterloo.ca
END:VEVENT
BEGIN:VEVENT
DTSTART;TZID=America/Toronto:20260502T100000
DTEND;TZID=America/Toronto:20260502T150000
DTSTAMP:20260420T105816
CREATED:20260420T070432Z
LAST-MODIFIED:20260420T070433Z
UID:10642512-1777716000-1777734000@explorewaterloo.ca
SUMMARY:Wonderfully Made Spring Market
DESCRIPTION:Looking for your new favourite local market? The Spring Market at Catalyst 137 brings together over 65 incredible makers and artisans under one roof for a day of inspired shopping and discovery. Explore hundreds of one‑of‑a‑kind\, locally crafted products—from gifts and home goods to sweet treats and small luxuries. This is your chance to meet the people behind the products\, discover new favourites\, and support local creativity—all in a fun\, welcoming atmosphere. Whether you’re shopping for a thoughtful gift\, picking up hostess or teacher treats\, or indulging in a little something for yourself\, there’s something here for everyone. FREE admission! FREE on-site parking! FREE tote bags to the first 50 guests!
URL:https://explorewaterloo.ca/event/wonderfully-made-spring-market/
LOCATION:Catalyst 137\, 137 Glasgow St.\, Kitchener\, ON\, N2G 4X8\, Canada
CATEGORIES:Event,Free Events,Shopping
ATTACH;FMTTYPE=image/jpeg:https://files.explorewaterloo.ca/uploads/2026/02/event-b2521f42014b2190a7b72c3d34fa809c.png
ORGANIZER;CN="Charlene Hone":MAILTO:hello@wmmarkets.ca
END:VEVENT
BEGIN:VEVENT
DTSTART;TZID=America/Toronto:20260503T090000
DTEND;TZID=America/Toronto:20260503T120000
DTSTAMP:20260420T105816
CREATED:20260420T070445Z
LAST-MODIFIED:20260420T070445Z
UID:10642527-1777798800-1777809600@explorewaterloo.ca
SUMMARY:Starling's Steps for Kids 2026
DESCRIPTION:Join us on Sunday May 3rd\, as we lace up our shoes and walk for Children’s Mental Health at Starling’s (formerly Lutherwood) annual Steps for Kids fundraising event.  Steps for Kids is a free family-friendly event. It’s dog friendly too! The 3 – 5 km beautiful route will take you through the farms and trails of North Waterloo. You have the power to make a difference. Each step you take tells youth experiencing mental health challenges that you care about them. You’re taking a stand for their mental well-being. Your little steps will have a big impact on our community. Come as an individual\, join a team\, bring your friends and colleagues\, or come with your family. Fun and family friendly 3K to 5K walk/run (dog friendly too)! Registration required (free).  For more information\, to register or donate: www.starlingstepsforkids.ca Registration is required (FREE). All funds raised go directly to support Starling’s programs for children’s mental health in Waterloo Region.
URL:https://explorewaterloo.ca/event/starlings-steps-for-kids-2026/
LOCATION:Starling Children’s Mental Health Centre\, 285 Benjamin Road\, Waterloo\, ON\, N2J 3Z4\, Canada
CATEGORIES:Family Friendly,Free Events
ATTACH;FMTTYPE=image/jpeg:https://files.explorewaterloo.ca/uploads/2026/04/event-94fea378517c8594e1142ffc32be183f.jpg
ORGANIZER;CN="Marta Fukasawa":MAILTO:foundation@starlingcs.ca
END:VEVENT
BEGIN:VEVENT
DTSTART;TZID=America/Toronto:20260509T100000
DTEND;TZID=America/Toronto:20260509T150000
DTSTAMP:20260420T105816
CREATED:20260420T070511Z
LAST-MODIFIED:20260420T070512Z
UID:10642560-1778320800-1778338800@explorewaterloo.ca
SUMMARY:Mother's Day Pre-Party
DESCRIPTION:MAY 9 | MOTHER’S DAY PRE-PARTY ​Celebrate Mom a day early with a farm-fresh experience from 10 AM – 3 PM! Explore our curated vendor market\, visit the gift-making station for kids\, and snap family photos at our themed ops. Enjoy live music (12 PM – 3 PM)\, lunch from the Longhorn Smokehouse\, and a sweet treat from the ice cream truck. Be sure to walk the driveway to see the Longhorn cattle and their new babies! Don’t forget the Kids Corral and our prize-filled scavenger hunt.    
URL:https://explorewaterloo.ca/event/mothers-day-pre-party/
LOCATION:Moore Farms\, 497 Pinehurst Rd\, Ayr\, ON\, Canada
CATEGORIES:Free Events
ATTACH;FMTTYPE=image/jpeg:https://files.explorewaterloo.ca/uploads/2026/03/event-7819da542efb2df3efdfcfe72e580ba9.png
ORGANIZER;CN="Sarah Elliott":MAILTO:mooresberries@gmail.com
END:VEVENT
BEGIN:VEVENT
DTSTART;TZID=America/Toronto:20260517T163000
DTEND;TZID=America/Toronto:20260517T223000
DTSTAMP:20260420T105816
CREATED:20260420T070549Z
LAST-MODIFIED:20260420T070549Z
UID:10642606-1779035400-1779057000@explorewaterloo.ca
SUMMARY:New Dundee Community Fireworks
DESCRIPTION:Join us on Sunday\, May 17th 2026 for an evening of spectacular fireworks\, food\, and fun.  Starting at 4:30 PM    New Dundee Community Centre ♥ Fireworks ♥ Kids Midway  ♥ Live Music ♥ Food Trucks ♥ Vendors ♥ Beer Tent
URL:https://explorewaterloo.ca/event/new-dundee-community-fireworks/
LOCATION:New Dundee Community Centre\, 1028 Queen St.\, New Dundee\, ON\, N0B 2E0\, Canada
CATEGORIES:Arts, Culture, Heritage & Live Performance,Event,Family Friendly,Food & Drink,Free Events
ATTACH;FMTTYPE=image/jpeg:https://files.explorewaterloo.ca/uploads/2026/03/event-02bdaeda3a642e0030a83a6051463106.png
ORGANIZER;CN="Fireworks Committee":MAILTO:ndfireworks@gmail.com
END:VEVENT
BEGIN:VEVENT
DTSTART;TZID=America/Toronto:20260519T190000
DTEND;TZID=America/Toronto:20260519T210000
DTSTAMP:20260420T105816
CREATED:20260420T070552Z
LAST-MODIFIED:20260420T070553Z
UID:10642611-1779217200-1779224400@explorewaterloo.ca
SUMMARY:"A Minecraft Movie" ⭐FREE⭐ Outdoor Screening
DESCRIPTION:⭐A Minecraft Movie⭐ 📆 Tuesday\, May 19th ⏰ 7PM 📍 on The Big Screen (the largest screen of it’s kind in Canada) 64 Grand Ave.\, S.\, Cambridge\, ON. 😎 FREE ⛅ Rain or shine 🍭 Looking for a sweet treat? Visit Build-A-Bucket in our Snack Shack! 🍔 Grab a bite to eat with a great view of the screen at Foundry Tavern or The Underwing! 🍕 Or grab a Pizzeria Motola pizza to-go and fill up on authentic Italian pizza while you watch!
URL:https://explorewaterloo.ca/event/a-minecraft-movie-%e2%ad%90free%e2%ad%90-outdoor-screening/
LOCATION:The Gaslight District\, 64 Grand Ave. S.\, Cambridge\, ON\, Canada
CATEGORIES:Free Events
ATTACH;FMTTYPE=image/jpeg:https://files.explorewaterloo.ca/uploads/2026/04/event-310a1faece538d6983e949f792466cb0.jpg
END:VEVENT
END:VCALENDAR