BEGIN:VCALENDAR
VERSION:2.0
PRODID:-//Explore Waterloo Region - ECPv6.15.19//NONSGML v1.0//EN
CALSCALE:GREGORIAN
METHOD:PUBLISH
X-WR-CALNAME:Explore Waterloo Region
X-ORIGINAL-URL:https://explorewaterloo.ca
X-WR-CALDESC:Events for Explore Waterloo Region
REFRESH-INTERVAL;VALUE=DURATION:PT1H
X-Robots-Tag:noindex
X-PUBLISHED-TTL:PT1H
BEGIN:VTIMEZONE
TZID:America/Toronto
BEGIN:DAYLIGHT
TZOFFSETFROM:-0500
TZOFFSETTO:-0400
TZNAME:EDT
DTSTART:20260308T070000
END:DAYLIGHT
BEGIN:STANDARD
TZOFFSETFROM:-0400
TZOFFSETTO:-0500
TZNAME:EST
DTSTART:20261101T060000
END:STANDARD
BEGIN:DAYLIGHT
TZOFFSETFROM:-0500
TZOFFSETTO:-0400
TZNAME:EDT
DTSTART:20270314T070000
END:DAYLIGHT
BEGIN:STANDARD
TZOFFSETFROM:-0400
TZOFFSETTO:-0500
TZNAME:EST
DTSTART:20271107T060000
END:STANDARD
BEGIN:DAYLIGHT
TZOFFSETFROM:-0500
TZOFFSETTO:-0400
TZNAME:EDT
DTSTART:20280312T070000
END:DAYLIGHT
BEGIN:STANDARD
TZOFFSETFROM:-0400
TZOFFSETTO:-0500
TZNAME:EST
DTSTART:20281105T060000
END:STANDARD
END:VTIMEZONE
BEGIN:VEVENT
DTSTART;TZID=America/Toronto:20270902T190000
DTEND;TZID=America/Toronto:20270902T210000
DTSTAMP:20260422T200754
CREATED:20260422T190033Z
LAST-MODIFIED:20260422T190033Z
UID:10649392-1819911600-1819918800@explorewaterloo.ca
SUMMARY:Run Club & Trivia at Counterpoint
DESCRIPTION:Join us every Thursday as we make it as good as a Friday! Our happy hour starts at 4pm\, with specials on pitchers and cocktails. Run club is an easy going group of runners who hit the trail\, path or sidewalk for 5km and come back for a pint or non-alc bevvy (10% off taproom purchases except happy hour specials). Tom’s trivia is challenging and keeps you on your toes. Play for free – win a prize!
URL:https://explorewaterloo.ca/event/run-club-trivia-at-counterpoint/2027-09-02/
LOCATION:COUNTERPOINT BREWING CO\, C105-1601 Victoria Street North\, Kitchener\, ON\, N2B 3E6\, Canada
CATEGORIES:Food & Drink,Nightlife,Ongoing Events,Outdoor & Recreation,Sports
ATTACH;FMTTYPE=image/jpeg:https://files.explorewaterloo.ca/uploads/2026/02/event-4cfac800b7954efe26f6856d7f7fc304.png
ORGANIZER;CN="Graeme Kobayashi":MAILTO:graeme@counterpointbrewing.ca
END:VEVENT
BEGIN:VEVENT
DTSTART;TZID=America/Toronto:20270909T190000
DTEND;TZID=America/Toronto:20270909T210000
DTSTAMP:20260422T200754
CREATED:20260422T190033Z
LAST-MODIFIED:20260422T190033Z
UID:10649393-1820516400-1820523600@explorewaterloo.ca
SUMMARY:Run Club & Trivia at Counterpoint
DESCRIPTION:Join us every Thursday as we make it as good as a Friday! Our happy hour starts at 4pm\, with specials on pitchers and cocktails. Run club is an easy going group of runners who hit the trail\, path or sidewalk for 5km and come back for a pint or non-alc bevvy (10% off taproom purchases except happy hour specials). Tom’s trivia is challenging and keeps you on your toes. Play for free – win a prize!
URL:https://explorewaterloo.ca/event/run-club-trivia-at-counterpoint/2027-09-09/
LOCATION:COUNTERPOINT BREWING CO\, C105-1601 Victoria Street North\, Kitchener\, ON\, N2B 3E6\, Canada
CATEGORIES:Food & Drink,Nightlife,Ongoing Events,Outdoor & Recreation,Sports
ATTACH;FMTTYPE=image/jpeg:https://files.explorewaterloo.ca/uploads/2026/02/event-4cfac800b7954efe26f6856d7f7fc304.png
ORGANIZER;CN="Graeme Kobayashi":MAILTO:graeme@counterpointbrewing.ca
END:VEVENT
BEGIN:VEVENT
DTSTART;TZID=America/Toronto:20270916T190000
DTEND;TZID=America/Toronto:20270916T210000
DTSTAMP:20260422T200754
CREATED:20260422T190033Z
LAST-MODIFIED:20260422T190033Z
UID:10649394-1821121200-1821128400@explorewaterloo.ca
SUMMARY:Run Club & Trivia at Counterpoint
DESCRIPTION:Join us every Thursday as we make it as good as a Friday! Our happy hour starts at 4pm\, with specials on pitchers and cocktails. Run club is an easy going group of runners who hit the trail\, path or sidewalk for 5km and come back for a pint or non-alc bevvy (10% off taproom purchases except happy hour specials). Tom’s trivia is challenging and keeps you on your toes. Play for free – win a prize!
URL:https://explorewaterloo.ca/event/run-club-trivia-at-counterpoint/2027-09-16/
LOCATION:COUNTERPOINT BREWING CO\, C105-1601 Victoria Street North\, Kitchener\, ON\, N2B 3E6\, Canada
CATEGORIES:Food & Drink,Nightlife,Ongoing Events,Outdoor & Recreation,Sports
ATTACH;FMTTYPE=image/jpeg:https://files.explorewaterloo.ca/uploads/2026/02/event-4cfac800b7954efe26f6856d7f7fc304.png
ORGANIZER;CN="Graeme Kobayashi":MAILTO:graeme@counterpointbrewing.ca
END:VEVENT
BEGIN:VEVENT
DTSTART;TZID=America/Toronto:20270923T190000
DTEND;TZID=America/Toronto:20270923T210000
DTSTAMP:20260422T200754
CREATED:20260422T190033Z
LAST-MODIFIED:20260422T190033Z
UID:10649395-1821726000-1821733200@explorewaterloo.ca
SUMMARY:Run Club & Trivia at Counterpoint
DESCRIPTION:Join us every Thursday as we make it as good as a Friday! Our happy hour starts at 4pm\, with specials on pitchers and cocktails. Run club is an easy going group of runners who hit the trail\, path or sidewalk for 5km and come back for a pint or non-alc bevvy (10% off taproom purchases except happy hour specials). Tom’s trivia is challenging and keeps you on your toes. Play for free – win a prize!
URL:https://explorewaterloo.ca/event/run-club-trivia-at-counterpoint/2027-09-23/
LOCATION:COUNTERPOINT BREWING CO\, C105-1601 Victoria Street North\, Kitchener\, ON\, N2B 3E6\, Canada
CATEGORIES:Food & Drink,Nightlife,Ongoing Events,Outdoor & Recreation,Sports
ATTACH;FMTTYPE=image/jpeg:https://files.explorewaterloo.ca/uploads/2026/02/event-4cfac800b7954efe26f6856d7f7fc304.png
ORGANIZER;CN="Graeme Kobayashi":MAILTO:graeme@counterpointbrewing.ca
END:VEVENT
BEGIN:VEVENT
DTSTART;TZID=America/Toronto:20270930T190000
DTEND;TZID=America/Toronto:20270930T210000
DTSTAMP:20260422T200754
CREATED:20260422T190033Z
LAST-MODIFIED:20260422T190033Z
UID:10649396-1822330800-1822338000@explorewaterloo.ca
SUMMARY:Run Club & Trivia at Counterpoint
DESCRIPTION:Join us every Thursday as we make it as good as a Friday! Our happy hour starts at 4pm\, with specials on pitchers and cocktails. Run club is an easy going group of runners who hit the trail\, path or sidewalk for 5km and come back for a pint or non-alc bevvy (10% off taproom purchases except happy hour specials). Tom’s trivia is challenging and keeps you on your toes. Play for free – win a prize!
URL:https://explorewaterloo.ca/event/run-club-trivia-at-counterpoint/2027-09-30/
LOCATION:COUNTERPOINT BREWING CO\, C105-1601 Victoria Street North\, Kitchener\, ON\, N2B 3E6\, Canada
CATEGORIES:Food & Drink,Nightlife,Ongoing Events,Outdoor & Recreation,Sports
ATTACH;FMTTYPE=image/jpeg:https://files.explorewaterloo.ca/uploads/2026/02/event-4cfac800b7954efe26f6856d7f7fc304.png
ORGANIZER;CN="Graeme Kobayashi":MAILTO:graeme@counterpointbrewing.ca
END:VEVENT
END:VCALENDAR