BEGIN:VCALENDAR
VERSION:2.0
PRODID:-//Explore Waterloo Region - ECPv6.15.19//NONSGML v1.0//EN
CALSCALE:GREGORIAN
METHOD:PUBLISH
X-WR-CALNAME:Explore Waterloo Region
X-ORIGINAL-URL:https://explorewaterloo.ca
X-WR-CALDESC:Events for Explore Waterloo Region
REFRESH-INTERVAL;VALUE=DURATION:PT1H
X-Robots-Tag:noindex
X-PUBLISHED-TTL:PT1H
BEGIN:VTIMEZONE
TZID:America/Toronto
BEGIN:DAYLIGHT
TZOFFSETFROM:-0500
TZOFFSETTO:-0400
TZNAME:EDT
DTSTART:20250309T070000
END:DAYLIGHT
BEGIN:STANDARD
TZOFFSETFROM:-0400
TZOFFSETTO:-0500
TZNAME:EST
DTSTART:20251102T060000
END:STANDARD
BEGIN:DAYLIGHT
TZOFFSETFROM:-0500
TZOFFSETTO:-0400
TZNAME:EDT
DTSTART:20260308T070000
END:DAYLIGHT
BEGIN:STANDARD
TZOFFSETFROM:-0400
TZOFFSETTO:-0500
TZNAME:EST
DTSTART:20261101T060000
END:STANDARD
BEGIN:DAYLIGHT
TZOFFSETFROM:-0500
TZOFFSETTO:-0400
TZNAME:EDT
DTSTART:20270314T070000
END:DAYLIGHT
BEGIN:STANDARD
TZOFFSETFROM:-0400
TZOFFSETTO:-0500
TZNAME:EST
DTSTART:20271107T060000
END:STANDARD
END:VTIMEZONE
BEGIN:VEVENT
DTSTART;TZID=America/Toronto:20260808T100000
DTEND;TZID=America/Toronto:20260808T160000
DTSTAMP:20260419T090544
CREATED:20260419T070330Z
LAST-MODIFIED:20260419T070331Z
UID:10640322-1786183200-1786204800@explorewaterloo.ca
SUMMARY:CritterFest - Pet & Plant Expo
DESCRIPTION:Bring your friends\, your family\, and your love for all things wild and wonderful! Join us again for Ontario’s First Traveling Pet & Plant Expo What to expect: Local pet vendors & services\, unique plant vendors & garden goodies\, animal meet & greets\, kids activities & interactive zones\, handmade goods & small businesses\, giveaways\, prizes & more! Date & Time: Saturday\, August 8\, 2026\, 10:00AM – 4:00PM Location: Woolwich Memorial Centre – 24 Snyder Ave S\, Elmira\, ON N3B 1Z1 Admission: $12.00 online/$10.00 at the door (children 12 & under FREE!) https://critterfestexpo.eventbrite.ca Pet-friendly: Yes – with signed waiver Interested in being a vendor or sponsor? Send us a message or email us at: critterfestexpo@gmail.com Follow our Facebook/Instagram page for updates\, vendor announcements\, and sneak peeks! https://www.facebook.com/critterfestpetplantexpo https://www.instagram.com/critterfest_petplantexpo/
URL:https://explorewaterloo.ca/event/critterfest-pet-plant-expo/
LOCATION:Woolwich Memorial Centre\, 24 Snyder Ave S\, Elmira\, ON\, N3B 1Z1\, Canada
CATEGORIES:Shopping
ATTACH;FMTTYPE=image/jpeg:https://files.explorewaterloo.ca/uploads/2026/04/event-1abd00e0b7c99c8c89e84bd679726319.jpg
ORGANIZER;CN="Tiffany Lamont":MAILTO:critterfestexpo@gmail.com
END:VEVENT
END:VCALENDAR