BEGIN:VCALENDAR
VERSION:2.0
PRODID:-//Explore Waterloo Region - ECPv6.15.19//NONSGML v1.0//EN
CALSCALE:GREGORIAN
METHOD:PUBLISH
X-WR-CALNAME:Explore Waterloo Region
X-ORIGINAL-URL:https://explorewaterloo.ca
X-WR-CALDESC:Events for Explore Waterloo Region
REFRESH-INTERVAL;VALUE=DURATION:PT1H
X-Robots-Tag:noindex
X-PUBLISHED-TTL:PT1H
BEGIN:VTIMEZONE
TZID:America/Toronto
BEGIN:DAYLIGHT
TZOFFSETFROM:-0500
TZOFFSETTO:-0400
TZNAME:EDT
DTSTART:20250309T070000
END:DAYLIGHT
BEGIN:STANDARD
TZOFFSETFROM:-0400
TZOFFSETTO:-0500
TZNAME:EST
DTSTART:20251102T060000
END:STANDARD
BEGIN:DAYLIGHT
TZOFFSETFROM:-0500
TZOFFSETTO:-0400
TZNAME:EDT
DTSTART:20260308T070000
END:DAYLIGHT
BEGIN:STANDARD
TZOFFSETFROM:-0400
TZOFFSETTO:-0500
TZNAME:EST
DTSTART:20261101T060000
END:STANDARD
BEGIN:DAYLIGHT
TZOFFSETFROM:-0500
TZOFFSETTO:-0400
TZNAME:EDT
DTSTART:20270314T070000
END:DAYLIGHT
BEGIN:STANDARD
TZOFFSETFROM:-0400
TZOFFSETTO:-0500
TZNAME:EST
DTSTART:20271107T060000
END:STANDARD
END:VTIMEZONE
BEGIN:VEVENT
DTSTART;TZID=America/Toronto:20260502T190000
DTEND;TZID=America/Toronto:20260502T235900
DTSTAMP:20260421T211426
CREATED:20260421T190238Z
LAST-MODIFIED:20260421T190239Z
UID:10646034-1777748400-1777766340@explorewaterloo.ca
SUMMARY:West Coast Swing Dance Party
DESCRIPTION:West Coast Swing Dance Party! Join us for a night of social dancing including an Intro to West Coast Swing dance class for beginners! When: Saturday May 2nd\, 2026 7PM – Beginner West Coast Swing dance class 8PM-midnight – Social Dance Party! Cost: $20+HST (Uni students use code STUDENT to get 10% off\, must present student ID at the door.) FIRST CLASS FREE – if it’s your first ever visit to Remix Swing\, you can get a one-time free pass using the code FIRSTCLASS at checkout. Please bring indoor shoes or sock feet as outdoor shoes will not be permitted in the dance studio.
URL:https://explorewaterloo.ca/event/west-coast-swing-dance-party/
LOCATION:Remix Swing\, 92 King St. S\, Waterloo\, ON\, Canada
CATEGORIES:Sports
ATTACH;FMTTYPE=image/jpeg:https://files.explorewaterloo.ca/uploads/2026/03/event-dbdce98c6b07606701c8a3f21f5fb626.png
ORGANIZER;CN="Mikaela Lewis":MAILTO:remixswing@gmail.com
END:VEVENT
BEGIN:VEVENT
DTSTART;TZID=America/Toronto:20260507T190000
DTEND;TZID=America/Toronto:20260507T210000
DTSTAMP:20260421T211426
CREATED:20260421T190029Z
LAST-MODIFIED:20260421T190030Z
UID:10646962-1778180400-1778187600@explorewaterloo.ca
SUMMARY:Run Club & Trivia at Counterpoint
DESCRIPTION:Join us every Thursday as we make it as good as a Friday! Our happy hour starts at 4pm\, with specials on pitchers and cocktails. Run club is an easy going group of runners who hit the trail\, path or sidewalk for 5km and come back for a pint or non-alc bevvy (10% off taproom purchases except happy hour specials). Tom’s trivia is challenging and keeps you on your toes. Play for free – win a prize!
URL:https://explorewaterloo.ca/event/run-club-trivia-at-counterpoint/2026-05-07/
LOCATION:COUNTERPOINT BREWING CO\, C105-1601 Victoria Street North\, Kitchener\, ON\, N2B 3E6\, Canada
CATEGORIES:Food & Drink,Nightlife,Ongoing Events,Outdoor & Recreation,Sports
ATTACH;FMTTYPE=image/jpeg:https://files.explorewaterloo.ca/uploads/2026/02/event-4cfac800b7954efe26f6856d7f7fc304.png
ORGANIZER;CN="Graeme Kobayashi":MAILTO:graeme@counterpointbrewing.ca
END:VEVENT
BEGIN:VEVENT
DTSTART;TZID=America/Toronto:20260509T181500
DTEND;TZID=America/Toronto:20260509T233000
DTSTAMP:20260421T211426
CREATED:20260421T190318Z
LAST-MODIFIED:20260421T190319Z
UID:10646080-1778350500-1778369400@explorewaterloo.ca
SUMMARY:Destiny Boxing Spring Showdown
DESCRIPTION:Join your Destiny Boxers for a full night of high impact\, high energy amateur boxing matches\, right here at SydFIT!
URL:https://explorewaterloo.ca/event/destiny-boxing-spring-showdown/
LOCATION:SydFIT Health\, 180 St Leger St\, Kitchener\, ON\, N2H 4M5\, Canada
CATEGORIES:Event,Sports
ATTACH;FMTTYPE=image/jpeg:https://files.explorewaterloo.ca/uploads/2026/04/event-552dcb354d212703ec6bd347797da2b1.png
END:VEVENT
BEGIN:VEVENT
DTSTART;TZID=America/Toronto:20260514T190000
DTEND;TZID=America/Toronto:20260514T210000
DTSTAMP:20260421T211426
CREATED:20260421T190029Z
LAST-MODIFIED:20260421T190030Z
UID:10646963-1778785200-1778792400@explorewaterloo.ca
SUMMARY:Run Club & Trivia at Counterpoint
DESCRIPTION:Join us every Thursday as we make it as good as a Friday! Our happy hour starts at 4pm\, with specials on pitchers and cocktails. Run club is an easy going group of runners who hit the trail\, path or sidewalk for 5km and come back for a pint or non-alc bevvy (10% off taproom purchases except happy hour specials). Tom’s trivia is challenging and keeps you on your toes. Play for free – win a prize!
URL:https://explorewaterloo.ca/event/run-club-trivia-at-counterpoint/2026-05-14/
LOCATION:COUNTERPOINT BREWING CO\, C105-1601 Victoria Street North\, Kitchener\, ON\, N2B 3E6\, Canada
CATEGORIES:Food & Drink,Nightlife,Ongoing Events,Outdoor & Recreation,Sports
ATTACH;FMTTYPE=image/jpeg:https://files.explorewaterloo.ca/uploads/2026/02/event-4cfac800b7954efe26f6856d7f7fc304.png
ORGANIZER;CN="Graeme Kobayashi":MAILTO:graeme@counterpointbrewing.ca
END:VEVENT
BEGIN:VEVENT
DTSTART;TZID=America/Toronto:20260521T190000
DTEND;TZID=America/Toronto:20260521T210000
DTSTAMP:20260421T211426
CREATED:20260421T190029Z
LAST-MODIFIED:20260421T190030Z
UID:10646964-1779390000-1779397200@explorewaterloo.ca
SUMMARY:Run Club & Trivia at Counterpoint
DESCRIPTION:Join us every Thursday as we make it as good as a Friday! Our happy hour starts at 4pm\, with specials on pitchers and cocktails. Run club is an easy going group of runners who hit the trail\, path or sidewalk for 5km and come back for a pint or non-alc bevvy (10% off taproom purchases except happy hour specials). Tom’s trivia is challenging and keeps you on your toes. Play for free – win a prize!
URL:https://explorewaterloo.ca/event/run-club-trivia-at-counterpoint/2026-05-21/
LOCATION:COUNTERPOINT BREWING CO\, C105-1601 Victoria Street North\, Kitchener\, ON\, N2B 3E6\, Canada
CATEGORIES:Food & Drink,Nightlife,Ongoing Events,Outdoor & Recreation,Sports
ATTACH;FMTTYPE=image/jpeg:https://files.explorewaterloo.ca/uploads/2026/02/event-4cfac800b7954efe26f6856d7f7fc304.png
ORGANIZER;CN="Graeme Kobayashi":MAILTO:graeme@counterpointbrewing.ca
END:VEVENT
BEGIN:VEVENT
DTSTART;TZID=America/Toronto:20260528T190000
DTEND;TZID=America/Toronto:20260528T210000
DTSTAMP:20260421T211426
CREATED:20260421T190029Z
LAST-MODIFIED:20260421T190030Z
UID:10646965-1779994800-1780002000@explorewaterloo.ca
SUMMARY:Run Club & Trivia at Counterpoint
DESCRIPTION:Join us every Thursday as we make it as good as a Friday! Our happy hour starts at 4pm\, with specials on pitchers and cocktails. Run club is an easy going group of runners who hit the trail\, path or sidewalk for 5km and come back for a pint or non-alc bevvy (10% off taproom purchases except happy hour specials). Tom’s trivia is challenging and keeps you on your toes. Play for free – win a prize!
URL:https://explorewaterloo.ca/event/run-club-trivia-at-counterpoint/2026-05-28/
LOCATION:COUNTERPOINT BREWING CO\, C105-1601 Victoria Street North\, Kitchener\, ON\, N2B 3E6\, Canada
CATEGORIES:Food & Drink,Nightlife,Ongoing Events,Outdoor & Recreation,Sports
ATTACH;FMTTYPE=image/jpeg:https://files.explorewaterloo.ca/uploads/2026/02/event-4cfac800b7954efe26f6856d7f7fc304.png
ORGANIZER;CN="Graeme Kobayashi":MAILTO:graeme@counterpointbrewing.ca
END:VEVENT
BEGIN:VEVENT
DTSTART;TZID=America/Toronto:20260530T130000
DTEND;TZID=America/Toronto:20260530T130000
DTSTAMP:20260421T211426
CREATED:20260421T190526Z
LAST-MODIFIED:20260421T190526Z
UID:10646156-1780146000-1780146000@explorewaterloo.ca
SUMMARY:CSHF 2026 Golf Tourney
DESCRIPTION:Join the Cambridge Sports Hall of Fame for their Annual Charity Golf Tournament—a fun-filled day on the course in support of local sport and community initiatives. Held at Brookfield Golf Club\, this popular event features a shotgun start and welcomes golfers of all skill levels\, whether registering as a foursome\, twosome\, or individual. Participants will enjoy 18 holes of golf with a cart\, followed by a delicious steak dinner\, prizes\, and trophies. The day also includes exciting extras like a live and silent auction\, 50/50 draw\, and other on-course contests.  Gather your team\, connect with the community\, and support the Cambridge Sports Hall of Fame while enjoying a great day of golf\, friendly competition\, and entertainment.
URL:https://explorewaterloo.ca/event/cshf-2026-golf-tourney/
LOCATION:Brookfield Golf Club\, 3700 Beaverdale Road\, Cambridge\, ON\, N3H 4R7\, Canada
CATEGORIES:Sports
ATTACH;FMTTYPE=image/jpeg:https://files.explorewaterloo.ca/uploads/2026/03/event-a0046163ca493668bc795974ada4e810.png
END:VEVENT
END:VCALENDAR