BEGIN:VCALENDAR
VERSION:2.0
PRODID:-//Explore Waterloo Region - ECPv6.15.19//NONSGML v1.0//EN
CALSCALE:GREGORIAN
METHOD:PUBLISH
X-WR-CALNAME:Explore Waterloo Region
X-ORIGINAL-URL:https://explorewaterloo.ca
X-WR-CALDESC:Events for Explore Waterloo Region
REFRESH-INTERVAL;VALUE=DURATION:PT1H
X-Robots-Tag:noindex
X-PUBLISHED-TTL:PT1H
BEGIN:VTIMEZONE
TZID:America/Toronto
BEGIN:DAYLIGHT
TZOFFSETFROM:-0500
TZOFFSETTO:-0400
TZNAME:EDT
DTSTART:20250309T070000
END:DAYLIGHT
BEGIN:STANDARD
TZOFFSETFROM:-0400
TZOFFSETTO:-0500
TZNAME:EST
DTSTART:20251102T060000
END:STANDARD
BEGIN:DAYLIGHT
TZOFFSETFROM:-0500
TZOFFSETTO:-0400
TZNAME:EDT
DTSTART:20260308T070000
END:DAYLIGHT
BEGIN:STANDARD
TZOFFSETFROM:-0400
TZOFFSETTO:-0500
TZNAME:EST
DTSTART:20261101T060000
END:STANDARD
BEGIN:DAYLIGHT
TZOFFSETFROM:-0500
TZOFFSETTO:-0400
TZNAME:EDT
DTSTART:20270314T070000
END:DAYLIGHT
BEGIN:STANDARD
TZOFFSETFROM:-0400
TZOFFSETTO:-0500
TZNAME:EST
DTSTART:20271107T060000
END:STANDARD
END:VTIMEZONE
BEGIN:VEVENT
DTSTART;TZID=America/Toronto:20260130T100000
DTEND;TZID=America/Toronto:20260130T160000
DTSTAMP:20260421T212316
CREATED:20260421T190019Z
LAST-MODIFIED:20260421T190020Z
UID:10646204-1769767200-1769788800@explorewaterloo.ca
SUMMARY:A Distiller’s Tale: The Art and Legacy of the Seagram Distillery
DESCRIPTION:Discover the rich history\, craftsmanship\, and local impact of Waterloo’s iconic whisky industry in a fun\, family-friendly environment. This engaging exhibit features hands-on interactives for all ages\, making it a perfect outing for curious minds. Visit us at Conestoga Mall — and remember\, admission is always free! On until May 1\, 2026.
URL:https://explorewaterloo.ca/event/a-distillers-tale-the-art-and-legacy-of-the-seagram-distillery/2026-01-30/
LOCATION:City of Waterloo Museum\, 550 King Street North\, Waterloo\, ON\, Canada
CATEGORIES:Arts, Culture, Heritage & Live Performance,Event,Family Friendly,Free Events
ATTACH;FMTTYPE=image/jpeg:https://files.explorewaterloo.ca/uploads/2025/07/event-eb97fb4351c6912e7a1914bb86ee2d7a.jpg
ORGANIZER;CN="City of Waterloo Museum":MAILTO:museum@waterloo.ca
END:VEVENT
BEGIN:VEVENT
DTSTART;TZID=America/Toronto:20260129T100000
DTEND;TZID=America/Toronto:20260129T160000
DTSTAMP:20260421T212316
CREATED:20260421T190019Z
LAST-MODIFIED:20260421T190020Z
UID:10646203-1769680800-1769702400@explorewaterloo.ca
SUMMARY:A Distiller’s Tale: The Art and Legacy of the Seagram Distillery
DESCRIPTION:Discover the rich history\, craftsmanship\, and local impact of Waterloo’s iconic whisky industry in a fun\, family-friendly environment. This engaging exhibit features hands-on interactives for all ages\, making it a perfect outing for curious minds. Visit us at Conestoga Mall — and remember\, admission is always free! On until May 1\, 2026.
URL:https://explorewaterloo.ca/event/a-distillers-tale-the-art-and-legacy-of-the-seagram-distillery/2026-01-29/
LOCATION:City of Waterloo Museum\, 550 King Street North\, Waterloo\, ON\, Canada
CATEGORIES:Arts, Culture, Heritage & Live Performance,Event,Family Friendly,Free Events
ATTACH;FMTTYPE=image/jpeg:https://files.explorewaterloo.ca/uploads/2025/07/event-eb97fb4351c6912e7a1914bb86ee2d7a.jpg
ORGANIZER;CN="City of Waterloo Museum":MAILTO:museum@waterloo.ca
END:VEVENT
BEGIN:VEVENT
DTSTART;TZID=America/Toronto:20260129T093000
DTEND;TZID=America/Toronto:20260129T113000
DTSTAMP:20260421T212316
CREATED:20260421T190028Z
LAST-MODIFIED:20260421T190029Z
UID:10646939-1769679000-1769686200@explorewaterloo.ca
SUMMARY:St Jacobs Market Food Tour
DESCRIPTION:Sweet\, sour\, salty\, savoury & spicy… this is what a farmer’s market tastes like! Join us for a guided journey through Mennonite food\, culture and history\, tasting the best local vendors at the famous St. Jacobs Farmer’s Market.  When you join the curated St Jacobs Market Food Tour\, you will sink your teeth into food traditions\, market history\, the expertise of women and men that grow and produce the food they sell every week and most importantly…treat samples for the foodie in you!This Market Food Tour is for people who care about what they eat\, where it comes from and want to talk about it!  Get to know the St. Jacobs Farmer’s Market in a whole new way and taste why everyone returns again and again to the largest year-round farmer’s market in Canada!  
URL:https://explorewaterloo.ca/event/st-jacobs-market-food-tour/2026-01-29/
LOCATION:Log Cabin – St. Jacobs Farmers’ Market\, 878 Weber St N\, Woolwich\, ON N2J 4A9\, ON\, Canada
CATEGORIES:Food & Drink
ATTACH;FMTTYPE=image/jpeg:https://files.explorewaterloo.ca/uploads/2025/11/event-b28a4e205badd008cd382830167c98c9.jpg
ORGANIZER;CN="Juanita Metzger":MAILTO:juanita@strollwalkingtours.com
END:VEVENT
BEGIN:VEVENT
DTSTART;TZID=America/Toronto:20260128T100000
DTEND;TZID=America/Toronto:20260128T160000
DTSTAMP:20260421T212316
CREATED:20260421T190019Z
LAST-MODIFIED:20260421T190020Z
UID:10646202-1769594400-1769616000@explorewaterloo.ca
SUMMARY:A Distiller’s Tale: The Art and Legacy of the Seagram Distillery
DESCRIPTION:Discover the rich history\, craftsmanship\, and local impact of Waterloo’s iconic whisky industry in a fun\, family-friendly environment. This engaging exhibit features hands-on interactives for all ages\, making it a perfect outing for curious minds. Visit us at Conestoga Mall — and remember\, admission is always free! On until May 1\, 2026.
URL:https://explorewaterloo.ca/event/a-distillers-tale-the-art-and-legacy-of-the-seagram-distillery/2026-01-28/
LOCATION:City of Waterloo Museum\, 550 King Street North\, Waterloo\, ON\, Canada
CATEGORIES:Arts, Culture, Heritage & Live Performance,Event,Family Friendly,Free Events
ATTACH;FMTTYPE=image/jpeg:https://files.explorewaterloo.ca/uploads/2025/07/event-eb97fb4351c6912e7a1914bb86ee2d7a.jpg
ORGANIZER;CN="City of Waterloo Museum":MAILTO:museum@waterloo.ca
END:VEVENT
BEGIN:VEVENT
DTSTART;TZID=America/Toronto:20260127T100000
DTEND;TZID=America/Toronto:20260127T160000
DTSTAMP:20260421T212316
CREATED:20260421T190019Z
LAST-MODIFIED:20260421T190020Z
UID:10646201-1769508000-1769529600@explorewaterloo.ca
SUMMARY:A Distiller’s Tale: The Art and Legacy of the Seagram Distillery
DESCRIPTION:Discover the rich history\, craftsmanship\, and local impact of Waterloo’s iconic whisky industry in a fun\, family-friendly environment. This engaging exhibit features hands-on interactives for all ages\, making it a perfect outing for curious minds. Visit us at Conestoga Mall — and remember\, admission is always free! On until May 1\, 2026.
URL:https://explorewaterloo.ca/event/a-distillers-tale-the-art-and-legacy-of-the-seagram-distillery/2026-01-27/
LOCATION:City of Waterloo Museum\, 550 King Street North\, Waterloo\, ON\, Canada
CATEGORIES:Arts, Culture, Heritage & Live Performance,Event,Family Friendly,Free Events
ATTACH;FMTTYPE=image/jpeg:https://files.explorewaterloo.ca/uploads/2025/07/event-eb97fb4351c6912e7a1914bb86ee2d7a.jpg
ORGANIZER;CN="City of Waterloo Museum":MAILTO:museum@waterloo.ca
END:VEVENT
BEGIN:VEVENT
DTSTART;TZID=America/Toronto:20260123T100000
DTEND;TZID=America/Toronto:20260123T160000
DTSTAMP:20260421T212316
CREATED:20260421T190019Z
LAST-MODIFIED:20260421T190020Z
UID:10646200-1769162400-1769184000@explorewaterloo.ca
SUMMARY:A Distiller’s Tale: The Art and Legacy of the Seagram Distillery
DESCRIPTION:Discover the rich history\, craftsmanship\, and local impact of Waterloo’s iconic whisky industry in a fun\, family-friendly environment. This engaging exhibit features hands-on interactives for all ages\, making it a perfect outing for curious minds. Visit us at Conestoga Mall — and remember\, admission is always free! On until May 1\, 2026.
URL:https://explorewaterloo.ca/event/a-distillers-tale-the-art-and-legacy-of-the-seagram-distillery/2026-01-23/
LOCATION:City of Waterloo Museum\, 550 King Street North\, Waterloo\, ON\, Canada
CATEGORIES:Arts, Culture, Heritage & Live Performance,Event,Family Friendly,Free Events
ATTACH;FMTTYPE=image/jpeg:https://files.explorewaterloo.ca/uploads/2025/07/event-eb97fb4351c6912e7a1914bb86ee2d7a.jpg
ORGANIZER;CN="City of Waterloo Museum":MAILTO:museum@waterloo.ca
END:VEVENT
BEGIN:VEVENT
DTSTART;TZID=America/Toronto:20260122T100000
DTEND;TZID=America/Toronto:20260122T160000
DTSTAMP:20260421T212316
CREATED:20260421T190019Z
LAST-MODIFIED:20260421T190020Z
UID:10646199-1769076000-1769097600@explorewaterloo.ca
SUMMARY:A Distiller’s Tale: The Art and Legacy of the Seagram Distillery
DESCRIPTION:Discover the rich history\, craftsmanship\, and local impact of Waterloo’s iconic whisky industry in a fun\, family-friendly environment. This engaging exhibit features hands-on interactives for all ages\, making it a perfect outing for curious minds. Visit us at Conestoga Mall — and remember\, admission is always free! On until May 1\, 2026.
URL:https://explorewaterloo.ca/event/a-distillers-tale-the-art-and-legacy-of-the-seagram-distillery/2026-01-22/
LOCATION:City of Waterloo Museum\, 550 King Street North\, Waterloo\, ON\, Canada
CATEGORIES:Arts, Culture, Heritage & Live Performance,Event,Family Friendly,Free Events
ATTACH;FMTTYPE=image/jpeg:https://files.explorewaterloo.ca/uploads/2025/07/event-eb97fb4351c6912e7a1914bb86ee2d7a.jpg
ORGANIZER;CN="City of Waterloo Museum":MAILTO:museum@waterloo.ca
END:VEVENT
BEGIN:VEVENT
DTSTART;TZID=America/Toronto:20260122T093000
DTEND;TZID=America/Toronto:20260122T113000
DTSTAMP:20260421T212316
CREATED:20260421T190028Z
LAST-MODIFIED:20260421T190029Z
UID:10645955-1769074200-1769081400@explorewaterloo.ca
SUMMARY:St Jacobs Market Food Tour
DESCRIPTION:Sweet\, sour\, salty\, savoury & spicy… this is what a farmer’s market tastes like! Join us for a guided journey through Mennonite food\, culture and history\, tasting the best local vendors at the famous St. Jacobs Farmer’s Market.  When you join the curated St Jacobs Market Food Tour\, you will sink your teeth into food traditions\, market history\, the expertise of women and men that grow and produce the food they sell every week and most importantly…treat samples for the foodie in you!This Market Food Tour is for people who care about what they eat\, where it comes from and want to talk about it!  Get to know the St. Jacobs Farmer’s Market in a whole new way and taste why everyone returns again and again to the largest year-round farmer’s market in Canada!  
URL:https://explorewaterloo.ca/event/st-jacobs-market-food-tour/2026-01-22/
LOCATION:Log Cabin – St. Jacobs Farmers’ Market\, 878 Weber St N\, Woolwich\, ON N2J 4A9\, ON\, Canada
CATEGORIES:Food & Drink
ATTACH;FMTTYPE=image/jpeg:https://files.explorewaterloo.ca/uploads/2025/11/event-b28a4e205badd008cd382830167c98c9.jpg
ORGANIZER;CN="Juanita Metzger":MAILTO:juanita@strollwalkingtours.com
END:VEVENT
BEGIN:VEVENT
DTSTART;TZID=America/Toronto:20260121T100000
DTEND;TZID=America/Toronto:20260121T160000
DTSTAMP:20260421T212316
CREATED:20260421T190019Z
LAST-MODIFIED:20260421T190020Z
UID:10646198-1768989600-1769011200@explorewaterloo.ca
SUMMARY:A Distiller’s Tale: The Art and Legacy of the Seagram Distillery
DESCRIPTION:Discover the rich history\, craftsmanship\, and local impact of Waterloo’s iconic whisky industry in a fun\, family-friendly environment. This engaging exhibit features hands-on interactives for all ages\, making it a perfect outing for curious minds. Visit us at Conestoga Mall — and remember\, admission is always free! On until May 1\, 2026.
URL:https://explorewaterloo.ca/event/a-distillers-tale-the-art-and-legacy-of-the-seagram-distillery/2026-01-21/
LOCATION:City of Waterloo Museum\, 550 King Street North\, Waterloo\, ON\, Canada
CATEGORIES:Arts, Culture, Heritage & Live Performance,Event,Family Friendly,Free Events
ATTACH;FMTTYPE=image/jpeg:https://files.explorewaterloo.ca/uploads/2025/07/event-eb97fb4351c6912e7a1914bb86ee2d7a.jpg
ORGANIZER;CN="City of Waterloo Museum":MAILTO:museum@waterloo.ca
END:VEVENT
BEGIN:VEVENT
DTSTART;TZID=America/Toronto:20260120T100000
DTEND;TZID=America/Toronto:20260120T160000
DTSTAMP:20260421T212316
CREATED:20260421T190019Z
LAST-MODIFIED:20260421T190020Z
UID:10646197-1768903200-1768924800@explorewaterloo.ca
SUMMARY:A Distiller’s Tale: The Art and Legacy of the Seagram Distillery
DESCRIPTION:Discover the rich history\, craftsmanship\, and local impact of Waterloo’s iconic whisky industry in a fun\, family-friendly environment. This engaging exhibit features hands-on interactives for all ages\, making it a perfect outing for curious minds. Visit us at Conestoga Mall — and remember\, admission is always free! On until May 1\, 2026.
URL:https://explorewaterloo.ca/event/a-distillers-tale-the-art-and-legacy-of-the-seagram-distillery/2026-01-20/
LOCATION:City of Waterloo Museum\, 550 King Street North\, Waterloo\, ON\, Canada
CATEGORIES:Arts, Culture, Heritage & Live Performance,Event,Family Friendly,Free Events
ATTACH;FMTTYPE=image/jpeg:https://files.explorewaterloo.ca/uploads/2025/07/event-eb97fb4351c6912e7a1914bb86ee2d7a.jpg
ORGANIZER;CN="City of Waterloo Museum":MAILTO:museum@waterloo.ca
END:VEVENT
BEGIN:VEVENT
DTSTART;TZID=America/Toronto:20260116T100000
DTEND;TZID=America/Toronto:20260116T160000
DTSTAMP:20260421T212316
CREATED:20260421T190019Z
LAST-MODIFIED:20260421T190020Z
UID:10646196-1768557600-1768579200@explorewaterloo.ca
SUMMARY:A Distiller’s Tale: The Art and Legacy of the Seagram Distillery
DESCRIPTION:Discover the rich history\, craftsmanship\, and local impact of Waterloo’s iconic whisky industry in a fun\, family-friendly environment. This engaging exhibit features hands-on interactives for all ages\, making it a perfect outing for curious minds. Visit us at Conestoga Mall — and remember\, admission is always free! On until May 1\, 2026.
URL:https://explorewaterloo.ca/event/a-distillers-tale-the-art-and-legacy-of-the-seagram-distillery/2026-01-16/
LOCATION:City of Waterloo Museum\, 550 King Street North\, Waterloo\, ON\, Canada
CATEGORIES:Arts, Culture, Heritage & Live Performance,Event,Family Friendly,Free Events
ATTACH;FMTTYPE=image/jpeg:https://files.explorewaterloo.ca/uploads/2025/07/event-eb97fb4351c6912e7a1914bb86ee2d7a.jpg
ORGANIZER;CN="City of Waterloo Museum":MAILTO:museum@waterloo.ca
END:VEVENT
BEGIN:VEVENT
DTSTART;TZID=America/Toronto:20260116T090000
DTEND;TZID=America/Toronto:20260116T160000
DTSTAMP:20260421T212316
CREATED:20260421T190027Z
LAST-MODIFIED:20260421T190028Z
UID:10645954-1768554000-1768579200@explorewaterloo.ca
SUMMARY:PD Day Art Camp (Age 7-13)
DESCRIPTION:Book onto 1 or more! Each day camp includes a variety of art making adventures\, including 1 kiln fired clay project. Each PD Day Camp must be booked separately. Full date & price list below: January 16\, 2026 9:00am-4:00pm $60/day+Eventbrite FeesApril 24\, 2026 9:00am-4:00pm $60/day+Eventbrite FeesMay 29\, 2026 9:00am-4:00pm $60/day+Eventbrite FeesPick up and Drop Off Times9:00am drop off and 4:00pm pick up. Clay Artwork Pick upKiln Fired clay artwork will be available for pick up 6-8 weeks after the last day of your Art Camp. You will receive an email when items are ready for pick up.What to BringNut free lunch\, snacks\, and water bottleWeather appropriate clothing for outdoor breaksDress for mess!
URL:https://explorewaterloo.ca/event/pd-day-art-camp-age-7-13/2026-01-16/
LOCATION:Canadian Clay and Glass Gallery\, 25 Caroline Street North\, Waterloo\, ON\, N2L 2Y5\, Canada
CATEGORIES:Arts, Culture, Heritage & Live Performance,Event
ATTACH;FMTTYPE=image/jpeg:https://files.explorewaterloo.ca/uploads/2025/12/event-0eec422118ad80547fa4d166bd3b7033.png
END:VEVENT
BEGIN:VEVENT
DTSTART;TZID=America/Toronto:20260115T100000
DTEND;TZID=America/Toronto:20260115T160000
DTSTAMP:20260421T212316
CREATED:20260421T190019Z
LAST-MODIFIED:20260421T190020Z
UID:10646195-1768471200-1768492800@explorewaterloo.ca
SUMMARY:A Distiller’s Tale: The Art and Legacy of the Seagram Distillery
DESCRIPTION:Discover the rich history\, craftsmanship\, and local impact of Waterloo’s iconic whisky industry in a fun\, family-friendly environment. This engaging exhibit features hands-on interactives for all ages\, making it a perfect outing for curious minds. Visit us at Conestoga Mall — and remember\, admission is always free! On until May 1\, 2026.
URL:https://explorewaterloo.ca/event/a-distillers-tale-the-art-and-legacy-of-the-seagram-distillery/2026-01-15/
LOCATION:City of Waterloo Museum\, 550 King Street North\, Waterloo\, ON\, Canada
CATEGORIES:Arts, Culture, Heritage & Live Performance,Event,Family Friendly,Free Events
ATTACH;FMTTYPE=image/jpeg:https://files.explorewaterloo.ca/uploads/2025/07/event-eb97fb4351c6912e7a1914bb86ee2d7a.jpg
ORGANIZER;CN="City of Waterloo Museum":MAILTO:museum@waterloo.ca
END:VEVENT
BEGIN:VEVENT
DTSTART;TZID=America/Toronto:20260114T100000
DTEND;TZID=America/Toronto:20260114T160000
DTSTAMP:20260421T212316
CREATED:20260421T190019Z
LAST-MODIFIED:20260421T190020Z
UID:10646194-1768384800-1768406400@explorewaterloo.ca
SUMMARY:A Distiller’s Tale: The Art and Legacy of the Seagram Distillery
DESCRIPTION:Discover the rich history\, craftsmanship\, and local impact of Waterloo’s iconic whisky industry in a fun\, family-friendly environment. This engaging exhibit features hands-on interactives for all ages\, making it a perfect outing for curious minds. Visit us at Conestoga Mall — and remember\, admission is always free! On until May 1\, 2026.
URL:https://explorewaterloo.ca/event/a-distillers-tale-the-art-and-legacy-of-the-seagram-distillery/2026-01-14/
LOCATION:City of Waterloo Museum\, 550 King Street North\, Waterloo\, ON\, Canada
CATEGORIES:Arts, Culture, Heritage & Live Performance,Event,Family Friendly,Free Events
ATTACH;FMTTYPE=image/jpeg:https://files.explorewaterloo.ca/uploads/2025/07/event-eb97fb4351c6912e7a1914bb86ee2d7a.jpg
ORGANIZER;CN="City of Waterloo Museum":MAILTO:museum@waterloo.ca
END:VEVENT
BEGIN:VEVENT
DTSTART;TZID=America/Toronto:20260113T100000
DTEND;TZID=America/Toronto:20260113T160000
DTSTAMP:20260421T212316
CREATED:20260421T190019Z
LAST-MODIFIED:20260421T190020Z
UID:10646193-1768298400-1768320000@explorewaterloo.ca
SUMMARY:A Distiller’s Tale: The Art and Legacy of the Seagram Distillery
DESCRIPTION:Discover the rich history\, craftsmanship\, and local impact of Waterloo’s iconic whisky industry in a fun\, family-friendly environment. This engaging exhibit features hands-on interactives for all ages\, making it a perfect outing for curious minds. Visit us at Conestoga Mall — and remember\, admission is always free! On until May 1\, 2026.
URL:https://explorewaterloo.ca/event/a-distillers-tale-the-art-and-legacy-of-the-seagram-distillery/2026-01-13/
LOCATION:City of Waterloo Museum\, 550 King Street North\, Waterloo\, ON\, Canada
CATEGORIES:Arts, Culture, Heritage & Live Performance,Event,Family Friendly,Free Events
ATTACH;FMTTYPE=image/jpeg:https://files.explorewaterloo.ca/uploads/2025/07/event-eb97fb4351c6912e7a1914bb86ee2d7a.jpg
ORGANIZER;CN="City of Waterloo Museum":MAILTO:museum@waterloo.ca
END:VEVENT
BEGIN:VEVENT
DTSTART;TZID=America/Toronto:20260109T100000
DTEND;TZID=America/Toronto:20260109T160000
DTSTAMP:20260421T212316
CREATED:20260421T190019Z
LAST-MODIFIED:20260421T190020Z
UID:10646192-1767952800-1767974400@explorewaterloo.ca
SUMMARY:A Distiller’s Tale: The Art and Legacy of the Seagram Distillery
DESCRIPTION:Discover the rich history\, craftsmanship\, and local impact of Waterloo’s iconic whisky industry in a fun\, family-friendly environment. This engaging exhibit features hands-on interactives for all ages\, making it a perfect outing for curious minds. Visit us at Conestoga Mall — and remember\, admission is always free! On until May 1\, 2026.
URL:https://explorewaterloo.ca/event/a-distillers-tale-the-art-and-legacy-of-the-seagram-distillery/2026-01-09/
LOCATION:City of Waterloo Museum\, 550 King Street North\, Waterloo\, ON\, Canada
CATEGORIES:Arts, Culture, Heritage & Live Performance,Event,Family Friendly,Free Events
ATTACH;FMTTYPE=image/jpeg:https://files.explorewaterloo.ca/uploads/2025/07/event-eb97fb4351c6912e7a1914bb86ee2d7a.jpg
ORGANIZER;CN="City of Waterloo Museum":MAILTO:museum@waterloo.ca
END:VEVENT
BEGIN:VEVENT
DTSTART;TZID=America/Toronto:20260108T100000
DTEND;TZID=America/Toronto:20260108T160000
DTSTAMP:20260421T212316
CREATED:20260421T190019Z
LAST-MODIFIED:20260421T190020Z
UID:10646191-1767866400-1767888000@explorewaterloo.ca
SUMMARY:A Distiller’s Tale: The Art and Legacy of the Seagram Distillery
DESCRIPTION:Discover the rich history\, craftsmanship\, and local impact of Waterloo’s iconic whisky industry in a fun\, family-friendly environment. This engaging exhibit features hands-on interactives for all ages\, making it a perfect outing for curious minds. Visit us at Conestoga Mall — and remember\, admission is always free! On until May 1\, 2026.
URL:https://explorewaterloo.ca/event/a-distillers-tale-the-art-and-legacy-of-the-seagram-distillery/2026-01-08/
LOCATION:City of Waterloo Museum\, 550 King Street North\, Waterloo\, ON\, Canada
CATEGORIES:Arts, Culture, Heritage & Live Performance,Event,Family Friendly,Free Events
ATTACH;FMTTYPE=image/jpeg:https://files.explorewaterloo.ca/uploads/2025/07/event-eb97fb4351c6912e7a1914bb86ee2d7a.jpg
ORGANIZER;CN="City of Waterloo Museum":MAILTO:museum@waterloo.ca
END:VEVENT
BEGIN:VEVENT
DTSTART;TZID=America/Toronto:20260107T100000
DTEND;TZID=America/Toronto:20260107T160000
DTSTAMP:20260421T212316
CREATED:20260421T190019Z
LAST-MODIFIED:20260421T190020Z
UID:10646190-1767780000-1767801600@explorewaterloo.ca
SUMMARY:A Distiller’s Tale: The Art and Legacy of the Seagram Distillery
DESCRIPTION:Discover the rich history\, craftsmanship\, and local impact of Waterloo’s iconic whisky industry in a fun\, family-friendly environment. This engaging exhibit features hands-on interactives for all ages\, making it a perfect outing for curious minds. Visit us at Conestoga Mall — and remember\, admission is always free! On until May 1\, 2026.
URL:https://explorewaterloo.ca/event/a-distillers-tale-the-art-and-legacy-of-the-seagram-distillery/2026-01-07/
LOCATION:City of Waterloo Museum\, 550 King Street North\, Waterloo\, ON\, Canada
CATEGORIES:Arts, Culture, Heritage & Live Performance,Event,Family Friendly,Free Events
ATTACH;FMTTYPE=image/jpeg:https://files.explorewaterloo.ca/uploads/2025/07/event-eb97fb4351c6912e7a1914bb86ee2d7a.jpg
ORGANIZER;CN="City of Waterloo Museum":MAILTO:museum@waterloo.ca
END:VEVENT
BEGIN:VEVENT
DTSTART;TZID=America/Toronto:20260106T100000
DTEND;TZID=America/Toronto:20260106T160000
DTSTAMP:20260421T212316
CREATED:20260421T190019Z
LAST-MODIFIED:20260421T190020Z
UID:10646189-1767693600-1767715200@explorewaterloo.ca
SUMMARY:A Distiller’s Tale: The Art and Legacy of the Seagram Distillery
DESCRIPTION:Discover the rich history\, craftsmanship\, and local impact of Waterloo’s iconic whisky industry in a fun\, family-friendly environment. This engaging exhibit features hands-on interactives for all ages\, making it a perfect outing for curious minds. Visit us at Conestoga Mall — and remember\, admission is always free! On until May 1\, 2026.
URL:https://explorewaterloo.ca/event/a-distillers-tale-the-art-and-legacy-of-the-seagram-distillery/2026-01-06/
LOCATION:City of Waterloo Museum\, 550 King Street North\, Waterloo\, ON\, Canada
CATEGORIES:Arts, Culture, Heritage & Live Performance,Event,Family Friendly,Free Events
ATTACH;FMTTYPE=image/jpeg:https://files.explorewaterloo.ca/uploads/2025/07/event-eb97fb4351c6912e7a1914bb86ee2d7a.jpg
ORGANIZER;CN="City of Waterloo Museum":MAILTO:museum@waterloo.ca
END:VEVENT
BEGIN:VEVENT
DTSTART;TZID=America/Toronto:20260102T100000
DTEND;TZID=America/Toronto:20260102T160000
DTSTAMP:20260421T212316
CREATED:20260421T190019Z
LAST-MODIFIED:20260421T190020Z
UID:10645953-1767348000-1767369600@explorewaterloo.ca
SUMMARY:A Distiller’s Tale: The Art and Legacy of the Seagram Distillery
DESCRIPTION:Discover the rich history\, craftsmanship\, and local impact of Waterloo’s iconic whisky industry in a fun\, family-friendly environment. This engaging exhibit features hands-on interactives for all ages\, making it a perfect outing for curious minds. Visit us at Conestoga Mall — and remember\, admission is always free! On until May 1\, 2026.
URL:https://explorewaterloo.ca/event/a-distillers-tale-the-art-and-legacy-of-the-seagram-distillery/2026-01-02/
LOCATION:City of Waterloo Museum\, 550 King Street North\, Waterloo\, ON\, Canada
CATEGORIES:Arts, Culture, Heritage & Live Performance,Event,Family Friendly,Free Events
ORGANIZER;CN="City of Waterloo Museum":MAILTO:museum@waterloo.ca
END:VEVENT
END:VCALENDAR