BEGIN:VCALENDAR
VERSION:2.0
PRODID:-//Explore Waterloo Region - ECPv6.15.19//NONSGML v1.0//EN
CALSCALE:GREGORIAN
METHOD:PUBLISH
X-ORIGINAL-URL:https://explorewaterloo.ca
X-WR-CALDESC:Events for Explore Waterloo Region
REFRESH-INTERVAL;VALUE=DURATION:PT1H
X-Robots-Tag:noindex
X-PUBLISHED-TTL:PT1H
BEGIN:VTIMEZONE
TZID:America/Toronto
BEGIN:DAYLIGHT
TZOFFSETFROM:-0500
TZOFFSETTO:-0400
TZNAME:EDT
DTSTART:20250309T070000
END:DAYLIGHT
BEGIN:STANDARD
TZOFFSETFROM:-0400
TZOFFSETTO:-0500
TZNAME:EST
DTSTART:20251102T060000
END:STANDARD
BEGIN:DAYLIGHT
TZOFFSETFROM:-0500
TZOFFSETTO:-0400
TZNAME:EDT
DTSTART:20260308T070000
END:DAYLIGHT
BEGIN:STANDARD
TZOFFSETFROM:-0400
TZOFFSETTO:-0500
TZNAME:EST
DTSTART:20261101T060000
END:STANDARD
BEGIN:DAYLIGHT
TZOFFSETFROM:-0500
TZOFFSETTO:-0400
TZNAME:EDT
DTSTART:20270314T070000
END:DAYLIGHT
BEGIN:STANDARD
TZOFFSETFROM:-0400
TZOFFSETTO:-0500
TZNAME:EST
DTSTART:20271107T060000
END:STANDARD
END:VTIMEZONE
BEGIN:VEVENT
DTSTART;TZID=America/Toronto:20260903T190000
DTEND;TZID=America/Toronto:20260903T210000
DTSTAMP:20260421T222733
CREATED:20260421T190029Z
LAST-MODIFIED:20260421T190030Z
UID:10646979-1788462000-1788469200@explorewaterloo.ca
SUMMARY:Run Club & Trivia at Counterpoint
DESCRIPTION:Join us every Thursday as we make it as good as a Friday! Our happy hour starts at 4pm\, with specials on pitchers and cocktails. Run club is an easy going group of runners who hit the trail\, path or sidewalk for 5km and come back for a pint or non-alc bevvy (10% off taproom purchases except happy hour specials). Tom’s trivia is challenging and keeps you on your toes. Play for free – win a prize!
URL:https://explorewaterloo.ca/event/run-club-trivia-at-counterpoint/2026-09-03/
LOCATION:COUNTERPOINT BREWING CO\, C105-1601 Victoria Street North\, Kitchener\, ON\, N2B 3E6\, Canada
CATEGORIES:Food & Drink,Nightlife,Ongoing Events,Outdoor & Recreation,Sports
ATTACH;FMTTYPE=image/jpeg:https://files.explorewaterloo.ca/uploads/2026/02/event-4cfac800b7954efe26f6856d7f7fc304.png
ORGANIZER;CN="Graeme Kobayashi":MAILTO:graeme@counterpointbrewing.ca
END:VEVENT
BEGIN:VEVENT
DTSTART;TZID=America/Toronto:20260910T190000
DTEND;TZID=America/Toronto:20260910T210000
DTSTAMP:20260421T222733
CREATED:20260421T190029Z
LAST-MODIFIED:20260421T190030Z
UID:10646980-1789066800-1789074000@explorewaterloo.ca
SUMMARY:Run Club & Trivia at Counterpoint
DESCRIPTION:Join us every Thursday as we make it as good as a Friday! Our happy hour starts at 4pm\, with specials on pitchers and cocktails. Run club is an easy going group of runners who hit the trail\, path or sidewalk for 5km and come back for a pint or non-alc bevvy (10% off taproom purchases except happy hour specials). Tom’s trivia is challenging and keeps you on your toes. Play for free – win a prize!
URL:https://explorewaterloo.ca/event/run-club-trivia-at-counterpoint/2026-09-10/
LOCATION:COUNTERPOINT BREWING CO\, C105-1601 Victoria Street North\, Kitchener\, ON\, N2B 3E6\, Canada
CATEGORIES:Food & Drink,Nightlife,Ongoing Events,Outdoor & Recreation,Sports
ATTACH;FMTTYPE=image/jpeg:https://files.explorewaterloo.ca/uploads/2026/02/event-4cfac800b7954efe26f6856d7f7fc304.png
ORGANIZER;CN="Graeme Kobayashi":MAILTO:graeme@counterpointbrewing.ca
END:VEVENT
BEGIN:VEVENT
DTSTART;TZID=America/Toronto:20260912T100000
DTEND;TZID=America/Toronto:20260912T150000
DTSTAMP:20260421T222733
CREATED:20260421T190652Z
LAST-MODIFIED:20260421T190653Z
UID:10646187-1789207200-1789225200@explorewaterloo.ca
SUMMARY:Anniversary Bash!
DESCRIPTION:SEPT 12 | 110TH ANNIVERSARY BASH! ​Help us celebrate 110 years of farming history from 10 AM – 3 PM! We’re taking a journey from our roots to the future of the farm with top-secret surprises and plenty of cake. This bash includes our curated vendor market\, Alexander Henry’s coffee\, the ice cream truck\, and live music (12 PM – 3 PM). Visit the Longhorn cattle\, grab lunch at the Longhorn Smokehouse\, and explore our history-themed scavenger hunt.  
URL:https://explorewaterloo.ca/event/anniversary-bash/
LOCATION:Moore Farms\, 497 Pinehurst Rd\, Ayr\, ON\, Canada
CATEGORIES:Arts, Culture, Heritage & Live Performance
ORGANIZER;CN="Sarah Elliott":MAILTO:mooresberries@gmail.com
END:VEVENT
BEGIN:VEVENT
DTSTART;TZID=America/Toronto:20260917T190000
DTEND;TZID=America/Toronto:20260917T210000
DTSTAMP:20260421T222733
CREATED:20260421T190029Z
LAST-MODIFIED:20260421T190030Z
UID:10646981-1789671600-1789678800@explorewaterloo.ca
SUMMARY:Run Club & Trivia at Counterpoint
DESCRIPTION:Join us every Thursday as we make it as good as a Friday! Our happy hour starts at 4pm\, with specials on pitchers and cocktails. Run club is an easy going group of runners who hit the trail\, path or sidewalk for 5km and come back for a pint or non-alc bevvy (10% off taproom purchases except happy hour specials). Tom’s trivia is challenging and keeps you on your toes. Play for free – win a prize!
URL:https://explorewaterloo.ca/event/run-club-trivia-at-counterpoint/2026-09-17/
LOCATION:COUNTERPOINT BREWING CO\, C105-1601 Victoria Street North\, Kitchener\, ON\, N2B 3E6\, Canada
CATEGORIES:Food & Drink,Nightlife,Ongoing Events,Outdoor & Recreation,Sports
ATTACH;FMTTYPE=image/jpeg:https://files.explorewaterloo.ca/uploads/2026/02/event-4cfac800b7954efe26f6856d7f7fc304.png
ORGANIZER;CN="Graeme Kobayashi":MAILTO:graeme@counterpointbrewing.ca
END:VEVENT
BEGIN:VEVENT
DTSTART;TZID=America/Toronto:20260924T190000
DTEND;TZID=America/Toronto:20260924T210000
DTSTAMP:20260421T222733
CREATED:20260421T190029Z
LAST-MODIFIED:20260421T190030Z
UID:10646982-1790276400-1790283600@explorewaterloo.ca
SUMMARY:Run Club & Trivia at Counterpoint
DESCRIPTION:Join us every Thursday as we make it as good as a Friday! Our happy hour starts at 4pm\, with specials on pitchers and cocktails. Run club is an easy going group of runners who hit the trail\, path or sidewalk for 5km and come back for a pint or non-alc bevvy (10% off taproom purchases except happy hour specials). Tom’s trivia is challenging and keeps you on your toes. Play for free – win a prize!
URL:https://explorewaterloo.ca/event/run-club-trivia-at-counterpoint/2026-09-24/
LOCATION:COUNTERPOINT BREWING CO\, C105-1601 Victoria Street North\, Kitchener\, ON\, N2B 3E6\, Canada
CATEGORIES:Food & Drink,Nightlife,Ongoing Events,Outdoor & Recreation,Sports
ATTACH;FMTTYPE=image/jpeg:https://files.explorewaterloo.ca/uploads/2026/02/event-4cfac800b7954efe26f6856d7f7fc304.png
ORGANIZER;CN="Graeme Kobayashi":MAILTO:graeme@counterpointbrewing.ca
END:VEVENT
END:VCALENDAR