BEGIN:VCALENDAR
VERSION:2.0
PRODID:-//Explore Waterloo Region - ECPv6.15.19//NONSGML v1.0//EN
CALSCALE:GREGORIAN
METHOD:PUBLISH
X-WR-CALNAME:Explore Waterloo Region
X-ORIGINAL-URL:https://explorewaterloo.ca
X-WR-CALDESC:Events for Explore Waterloo Region
REFRESH-INTERVAL;VALUE=DURATION:PT1H
X-Robots-Tag:noindex
X-PUBLISHED-TTL:PT1H
BEGIN:VTIMEZONE
TZID:America/Toronto
BEGIN:DAYLIGHT
TZOFFSETFROM:-0500
TZOFFSETTO:-0400
TZNAME:EDT
DTSTART:20250309T070000
END:DAYLIGHT
BEGIN:STANDARD
TZOFFSETFROM:-0400
TZOFFSETTO:-0500
TZNAME:EST
DTSTART:20251102T060000
END:STANDARD
BEGIN:DAYLIGHT
TZOFFSETFROM:-0500
TZOFFSETTO:-0400
TZNAME:EDT
DTSTART:20260308T070000
END:DAYLIGHT
BEGIN:STANDARD
TZOFFSETFROM:-0400
TZOFFSETTO:-0500
TZNAME:EST
DTSTART:20261101T060000
END:STANDARD
BEGIN:DAYLIGHT
TZOFFSETFROM:-0500
TZOFFSETTO:-0400
TZNAME:EDT
DTSTART:20270314T070000
END:DAYLIGHT
BEGIN:STANDARD
TZOFFSETFROM:-0400
TZOFFSETTO:-0500
TZNAME:EST
DTSTART:20271107T060000
END:STANDARD
END:VTIMEZONE
BEGIN:VEVENT
DTSTART;TZID=America/Toronto:20260512T173000
DTEND;TZID=America/Toronto:20260512T173000
DTSTAMP:20260420T105552
CREATED:20260420T070134Z
LAST-MODIFIED:20260420T070134Z
UID:10643538-1778607000-1778607000@explorewaterloo.ca
SUMMARY:Spectrum Queer Professional Social Mixer Series
DESCRIPTION:Wish you’d have a place to connect with fellow adults AND get caught up on everything going on here? Mix across fields and meet other supporters\, staff\, and community members of Spectrum. There will be light facilitation to get conversations started and of course the incredible brews of TWB available for purchase. 40+ folks came to our first one in February! Save the date for all events: Tuesday\, March 10\, 2026Tuesday\, April 14\, 2026Tuesday\, May 12\, 2026
URL:https://explorewaterloo.ca/event/spectrum-queer-professional-social-mixer-series/2026-05-12/
LOCATION:TWB Brewing\, 300 Mill Street\, Unit 1\, Kitchener\, ON\, N2M 3R8\, Canada
CATEGORIES:Arts, Culture, Heritage & Live Performance,Event
ATTACH;FMTTYPE=image/jpeg:https://files.explorewaterloo.ca/uploads/2026/03/event-1fd48e54d0f37f205db78aa9f28e5436.png
END:VEVENT
END:VCALENDAR