BEGIN:VCALENDAR
VERSION:2.0
PRODID:-//Explore Waterloo Region - ECPv6.15.19//NONSGML v1.0//EN
CALSCALE:GREGORIAN
METHOD:PUBLISH
X-WR-CALNAME:Explore Waterloo Region
X-ORIGINAL-URL:https://explorewaterloo.ca
X-WR-CALDESC:Events for Explore Waterloo Region
REFRESH-INTERVAL;VALUE=DURATION:PT1H
X-Robots-Tag:noindex
X-PUBLISHED-TTL:PT1H
BEGIN:VTIMEZONE
TZID:America/Toronto
BEGIN:DAYLIGHT
TZOFFSETFROM:-0500
TZOFFSETTO:-0400
TZNAME:EDT
DTSTART:20250309T070000
END:DAYLIGHT
BEGIN:STANDARD
TZOFFSETFROM:-0400
TZOFFSETTO:-0500
TZNAME:EST
DTSTART:20251102T060000
END:STANDARD
BEGIN:DAYLIGHT
TZOFFSETFROM:-0500
TZOFFSETTO:-0400
TZNAME:EDT
DTSTART:20260308T070000
END:DAYLIGHT
BEGIN:STANDARD
TZOFFSETFROM:-0400
TZOFFSETTO:-0500
TZNAME:EST
DTSTART:20261101T060000
END:STANDARD
BEGIN:DAYLIGHT
TZOFFSETFROM:-0500
TZOFFSETTO:-0400
TZNAME:EDT
DTSTART:20270314T070000
END:DAYLIGHT
BEGIN:STANDARD
TZOFFSETFROM:-0400
TZOFFSETTO:-0500
TZNAME:EST
DTSTART:20271107T060000
END:STANDARD
END:VTIMEZONE
BEGIN:VEVENT
DTSTART;TZID=America/Toronto:20260509T110000
DTEND;TZID=America/Toronto:20260509T110000
DTSTAMP:20260420T133453
CREATED:20260420T070513Z
LAST-MODIFIED:20260420T070513Z
UID:10642562-1778324400-1778324400@explorewaterloo.ca
SUMMARY:Mother's Day Teas by the Grand at McDougall Cottage
DESCRIPTION:Looking for a meaningful and memorable way to celebrate Mother’s Day? Treat the mothers and mother-figures in your life to a delightful afternoon tea in our cozy\, 168-year-old stone Cottage. Relax and enjoy our classic Cottage tea\, featuring an assortment of freshly prepared tea sandwiches\, scones with preserves and whipped cream\, buttery shortbread\, and more! As a special thank-you\, all moms who join us will receive a wee gift to take home. Reservations are required and space is limited\, so reserve your spot now! Cost: 29.95 + HST per person. Tickets are also available for in-person purchase at the Cottage during McDougall’s hours of operation. Tickets are non-refundable.
URL:https://explorewaterloo.ca/event/mothers-day-teas-by-the-grand-at-mcdougall-cottage/2026-05-09/
LOCATION:McDougall Cottage Historic Site\, 89 Grand Avenue South\, Cambridge\, ON\, N1S 2L7\, Canada
CATEGORIES:Event
ATTACH;FMTTYPE=image/jpeg:https://files.explorewaterloo.ca/uploads/2026/04/event-e781c5e5bd65adabbfd8ff8d94c5b9eb.jpg
END:VEVENT
BEGIN:VEVENT
DTSTART;TZID=America/Toronto:20260510T110000
DTEND;TZID=America/Toronto:20260510T110000
DTSTAMP:20260420T133453
CREATED:20260420T070513Z
LAST-MODIFIED:20260420T070513Z
UID:10643594-1778410800-1778410800@explorewaterloo.ca
SUMMARY:Mother's Day Teas by the Grand at McDougall Cottage
DESCRIPTION:Looking for a meaningful and memorable way to celebrate Mother’s Day? Treat the mothers and mother-figures in your life to a delightful afternoon tea in our cozy\, 168-year-old stone Cottage. Relax and enjoy our classic Cottage tea\, featuring an assortment of freshly prepared tea sandwiches\, scones with preserves and whipped cream\, buttery shortbread\, and more! As a special thank-you\, all moms who join us will receive a wee gift to take home. Reservations are required and space is limited\, so reserve your spot now! Cost: 29.95 + HST per person. Tickets are also available for in-person purchase at the Cottage during McDougall’s hours of operation. Tickets are non-refundable.
URL:https://explorewaterloo.ca/event/mothers-day-teas-by-the-grand-at-mcdougall-cottage/2026-05-10/
LOCATION:McDougall Cottage Historic Site\, 89 Grand Avenue South\, Cambridge\, ON\, N1S 2L7\, Canada
CATEGORIES:Event
ATTACH;FMTTYPE=image/jpeg:https://files.explorewaterloo.ca/uploads/2026/04/event-e781c5e5bd65adabbfd8ff8d94c5b9eb.jpg
END:VEVENT
END:VCALENDAR