BEGIN:VCALENDAR
VERSION:2.0
PRODID:-//Explore Waterloo Region - ECPv6.15.19//NONSGML v1.0//EN
CALSCALE:GREGORIAN
METHOD:PUBLISH
X-WR-CALNAME:Explore Waterloo Region
X-ORIGINAL-URL:https://explorewaterloo.ca
X-WR-CALDESC:Events for Explore Waterloo Region
REFRESH-INTERVAL;VALUE=DURATION:PT1H
X-Robots-Tag:noindex
X-PUBLISHED-TTL:PT1H
BEGIN:VTIMEZONE
TZID:America/Toronto
BEGIN:DAYLIGHT
TZOFFSETFROM:-0500
TZOFFSETTO:-0400
TZNAME:EDT
DTSTART:20250309T070000
END:DAYLIGHT
BEGIN:STANDARD
TZOFFSETFROM:-0400
TZOFFSETTO:-0500
TZNAME:EST
DTSTART:20251102T060000
END:STANDARD
BEGIN:DAYLIGHT
TZOFFSETFROM:-0500
TZOFFSETTO:-0400
TZNAME:EDT
DTSTART:20260308T070000
END:DAYLIGHT
BEGIN:STANDARD
TZOFFSETFROM:-0400
TZOFFSETTO:-0500
TZNAME:EST
DTSTART:20261101T060000
END:STANDARD
BEGIN:DAYLIGHT
TZOFFSETFROM:-0500
TZOFFSETTO:-0400
TZNAME:EDT
DTSTART:20270314T070000
END:DAYLIGHT
BEGIN:STANDARD
TZOFFSETFROM:-0400
TZOFFSETTO:-0500
TZNAME:EST
DTSTART:20271107T060000
END:STANDARD
END:VTIMEZONE
BEGIN:VEVENT
DTSTART;TZID=America/Toronto:20260424T090000
DTEND;TZID=America/Toronto:20260424T160000
DTSTAMP:20260420T174433
CREATED:20260420T190026Z
LAST-MODIFIED:20260420T190027Z
UID:10644587-1777021200-1777046400@explorewaterloo.ca
SUMMARY:PD Day Art Camp (Age 7-13)
DESCRIPTION:Book onto 1 or more! Each day camp includes a variety of art making adventures\, including 1 kiln fired clay project. Each PD Day Camp must be booked separately. Full date & price list below: January 16\, 2026 9:00am-4:00pm $60/day+Eventbrite FeesApril 24\, 2026 9:00am-4:00pm $60/day+Eventbrite FeesMay 29\, 2026 9:00am-4:00pm $60/day+Eventbrite FeesPick up and Drop Off Times9:00am drop off and 4:00pm pick up. Clay Artwork Pick upKiln Fired clay artwork will be available for pick up 6-8 weeks after the last day of your Art Camp. You will receive an email when items are ready for pick up.What to BringNut free lunch\, snacks\, and water bottleWeather appropriate clothing for outdoor breaksDress for mess!
URL:https://explorewaterloo.ca/event/pd-day-art-camp-age-7-13/2026-04-24/
LOCATION:Canadian Clay and Glass Gallery\, 25 Caroline Street North\, Waterloo\, ON\, N2L 2Y5\, Canada
CATEGORIES:Arts, Culture, Heritage & Live Performance,Event
ATTACH;FMTTYPE=image/jpeg:https://files.explorewaterloo.ca/uploads/2025/12/event-0eec422118ad80547fa4d166bd3b7033.png
END:VEVENT
BEGIN:VEVENT
DTSTART;TZID=America/Toronto:20260529T090000
DTEND;TZID=America/Toronto:20260529T160000
DTSTAMP:20260420T174433
CREATED:20260420T190026Z
LAST-MODIFIED:20260420T190027Z
UID:10644588-1780045200-1780070400@explorewaterloo.ca
SUMMARY:PD Day Art Camp (Age 7-13)
DESCRIPTION:Book onto 1 or more! Each day camp includes a variety of art making adventures\, including 1 kiln fired clay project. Each PD Day Camp must be booked separately. Full date & price list below: January 16\, 2026 9:00am-4:00pm $60/day+Eventbrite FeesApril 24\, 2026 9:00am-4:00pm $60/day+Eventbrite FeesMay 29\, 2026 9:00am-4:00pm $60/day+Eventbrite FeesPick up and Drop Off Times9:00am drop off and 4:00pm pick up. Clay Artwork Pick upKiln Fired clay artwork will be available for pick up 6-8 weeks after the last day of your Art Camp. You will receive an email when items are ready for pick up.What to BringNut free lunch\, snacks\, and water bottleWeather appropriate clothing for outdoor breaksDress for mess!
URL:https://explorewaterloo.ca/event/pd-day-art-camp-age-7-13/2026-05-29/
LOCATION:Canadian Clay and Glass Gallery\, 25 Caroline Street North\, Waterloo\, ON\, N2L 2Y5\, Canada
CATEGORIES:Arts, Culture, Heritage & Live Performance,Event
ATTACH;FMTTYPE=image/jpeg:https://files.explorewaterloo.ca/uploads/2025/12/event-0eec422118ad80547fa4d166bd3b7033.png
END:VEVENT
END:VCALENDAR