BEGIN:VCALENDAR
VERSION:2.0
PRODID:-//Explore Waterloo Region - ECPv6.15.19//NONSGML v1.0//EN
CALSCALE:GREGORIAN
METHOD:PUBLISH
X-WR-CALNAME:Explore Waterloo Region
X-ORIGINAL-URL:https://explorewaterloo.ca
X-WR-CALDESC:Events for Explore Waterloo Region
REFRESH-INTERVAL;VALUE=DURATION:PT1H
X-Robots-Tag:noindex
X-PUBLISHED-TTL:PT1H
BEGIN:VTIMEZONE
TZID:America/Toronto
BEGIN:DAYLIGHT
TZOFFSETFROM:-0500
TZOFFSETTO:-0400
TZNAME:EDT
DTSTART:20250309T070000
END:DAYLIGHT
BEGIN:STANDARD
TZOFFSETFROM:-0400
TZOFFSETTO:-0500
TZNAME:EST
DTSTART:20251102T060000
END:STANDARD
BEGIN:DAYLIGHT
TZOFFSETFROM:-0500
TZOFFSETTO:-0400
TZNAME:EDT
DTSTART:20260308T070000
END:DAYLIGHT
BEGIN:STANDARD
TZOFFSETFROM:-0400
TZOFFSETTO:-0500
TZNAME:EST
DTSTART:20261101T060000
END:STANDARD
BEGIN:DAYLIGHT
TZOFFSETFROM:-0500
TZOFFSETTO:-0400
TZNAME:EDT
DTSTART:20270314T070000
END:DAYLIGHT
BEGIN:STANDARD
TZOFFSETFROM:-0400
TZOFFSETTO:-0500
TZNAME:EST
DTSTART:20271107T060000
END:STANDARD
END:VTIMEZONE
BEGIN:VEVENT
DTSTART;TZID=America/Toronto:20260421T100000
DTEND;TZID=America/Toronto:20260421T160000
DTSTAMP:20260421T070119
CREATED:20260421T070029Z
LAST-MODIFIED:20260421T070030Z
UID:10645072-1776765600-1776787200@explorewaterloo.ca
SUMMARY:A Distiller’s Tale: The Art and Legacy of the Seagram Distillery
DESCRIPTION:Discover the rich history\, craftsmanship\, and local impact of Waterloo’s iconic whisky industry in a fun\, family-friendly environment. This engaging exhibit features hands-on interactives for all ages\, making it a perfect outing for curious minds. Visit us at Conestoga Mall — and remember\, admission is always free! On until May 1\, 2026.
URL:https://explorewaterloo.ca/event/a-distillers-tale-the-art-and-legacy-of-the-seagram-distillery/2026-04-21/
LOCATION:City of Waterloo Museum\, 550 King Street North\, Waterloo\, ON\, Canada
CATEGORIES:Arts, Culture, Heritage & Live Performance,Event,Family Friendly,Free Events
ATTACH;FMTTYPE=image/jpeg:https://files.explorewaterloo.ca/uploads/2025/07/event-eb97fb4351c6912e7a1914bb86ee2d7a.jpg
ORGANIZER;CN="City of Waterloo Museum":MAILTO:museum@waterloo.ca
END:VEVENT
BEGIN:VEVENT
DTSTART;TZID=America/Toronto:20260422T100000
DTEND;TZID=America/Toronto:20260422T160000
DTSTAMP:20260421T070119
CREATED:20260421T070029Z
LAST-MODIFIED:20260421T070030Z
UID:10645073-1776852000-1776873600@explorewaterloo.ca
SUMMARY:A Distiller’s Tale: The Art and Legacy of the Seagram Distillery
DESCRIPTION:Discover the rich history\, craftsmanship\, and local impact of Waterloo’s iconic whisky industry in a fun\, family-friendly environment. This engaging exhibit features hands-on interactives for all ages\, making it a perfect outing for curious minds. Visit us at Conestoga Mall — and remember\, admission is always free! On until May 1\, 2026.
URL:https://explorewaterloo.ca/event/a-distillers-tale-the-art-and-legacy-of-the-seagram-distillery/2026-04-22/
LOCATION:City of Waterloo Museum\, 550 King Street North\, Waterloo\, ON\, Canada
CATEGORIES:Arts, Culture, Heritage & Live Performance,Event,Family Friendly,Free Events
ATTACH;FMTTYPE=image/jpeg:https://files.explorewaterloo.ca/uploads/2025/07/event-eb97fb4351c6912e7a1914bb86ee2d7a.jpg
ORGANIZER;CN="City of Waterloo Museum":MAILTO:museum@waterloo.ca
END:VEVENT
BEGIN:VEVENT
DTSTART;TZID=America/Toronto:20260423T100000
DTEND;TZID=America/Toronto:20260423T160000
DTSTAMP:20260421T070119
CREATED:20260421T070029Z
LAST-MODIFIED:20260421T070030Z
UID:10645074-1776938400-1776960000@explorewaterloo.ca
SUMMARY:A Distiller’s Tale: The Art and Legacy of the Seagram Distillery
DESCRIPTION:Discover the rich history\, craftsmanship\, and local impact of Waterloo’s iconic whisky industry in a fun\, family-friendly environment. This engaging exhibit features hands-on interactives for all ages\, making it a perfect outing for curious minds. Visit us at Conestoga Mall — and remember\, admission is always free! On until May 1\, 2026.
URL:https://explorewaterloo.ca/event/a-distillers-tale-the-art-and-legacy-of-the-seagram-distillery/2026-04-23/
LOCATION:City of Waterloo Museum\, 550 King Street North\, Waterloo\, ON\, Canada
CATEGORIES:Arts, Culture, Heritage & Live Performance,Event,Family Friendly,Free Events
ATTACH;FMTTYPE=image/jpeg:https://files.explorewaterloo.ca/uploads/2025/07/event-eb97fb4351c6912e7a1914bb86ee2d7a.jpg
ORGANIZER;CN="City of Waterloo Museum":MAILTO:museum@waterloo.ca
END:VEVENT
BEGIN:VEVENT
DTSTART;TZID=America/Toronto:20260424T100000
DTEND;TZID=America/Toronto:20260424T160000
DTSTAMP:20260421T070119
CREATED:20260421T070029Z
LAST-MODIFIED:20260421T070030Z
UID:10645075-1777024800-1777046400@explorewaterloo.ca
SUMMARY:A Distiller’s Tale: The Art and Legacy of the Seagram Distillery
DESCRIPTION:Discover the rich history\, craftsmanship\, and local impact of Waterloo’s iconic whisky industry in a fun\, family-friendly environment. This engaging exhibit features hands-on interactives for all ages\, making it a perfect outing for curious minds. Visit us at Conestoga Mall — and remember\, admission is always free! On until May 1\, 2026.
URL:https://explorewaterloo.ca/event/a-distillers-tale-the-art-and-legacy-of-the-seagram-distillery/2026-04-24/
LOCATION:City of Waterloo Museum\, 550 King Street North\, Waterloo\, ON\, Canada
CATEGORIES:Arts, Culture, Heritage & Live Performance,Event,Family Friendly,Free Events
ATTACH;FMTTYPE=image/jpeg:https://files.explorewaterloo.ca/uploads/2025/07/event-eb97fb4351c6912e7a1914bb86ee2d7a.jpg
ORGANIZER;CN="City of Waterloo Museum":MAILTO:museum@waterloo.ca
END:VEVENT
BEGIN:VEVENT
DTSTART;TZID=America/Toronto:20260428T100000
DTEND;TZID=America/Toronto:20260428T160000
DTSTAMP:20260421T070119
CREATED:20260421T070029Z
LAST-MODIFIED:20260421T070030Z
UID:10645076-1777370400-1777392000@explorewaterloo.ca
SUMMARY:A Distiller’s Tale: The Art and Legacy of the Seagram Distillery
DESCRIPTION:Discover the rich history\, craftsmanship\, and local impact of Waterloo’s iconic whisky industry in a fun\, family-friendly environment. This engaging exhibit features hands-on interactives for all ages\, making it a perfect outing for curious minds. Visit us at Conestoga Mall — and remember\, admission is always free! On until May 1\, 2026.
URL:https://explorewaterloo.ca/event/a-distillers-tale-the-art-and-legacy-of-the-seagram-distillery/2026-04-28/
LOCATION:City of Waterloo Museum\, 550 King Street North\, Waterloo\, ON\, Canada
CATEGORIES:Arts, Culture, Heritage & Live Performance,Event,Family Friendly,Free Events
ATTACH;FMTTYPE=image/jpeg:https://files.explorewaterloo.ca/uploads/2025/07/event-eb97fb4351c6912e7a1914bb86ee2d7a.jpg
ORGANIZER;CN="City of Waterloo Museum":MAILTO:museum@waterloo.ca
END:VEVENT
BEGIN:VEVENT
DTSTART;TZID=America/Toronto:20260429T100000
DTEND;TZID=America/Toronto:20260429T160000
DTSTAMP:20260421T070119
CREATED:20260421T070029Z
LAST-MODIFIED:20260421T070030Z
UID:10645077-1777456800-1777478400@explorewaterloo.ca
SUMMARY:A Distiller’s Tale: The Art and Legacy of the Seagram Distillery
DESCRIPTION:Discover the rich history\, craftsmanship\, and local impact of Waterloo’s iconic whisky industry in a fun\, family-friendly environment. This engaging exhibit features hands-on interactives for all ages\, making it a perfect outing for curious minds. Visit us at Conestoga Mall — and remember\, admission is always free! On until May 1\, 2026.
URL:https://explorewaterloo.ca/event/a-distillers-tale-the-art-and-legacy-of-the-seagram-distillery/2026-04-29/
LOCATION:City of Waterloo Museum\, 550 King Street North\, Waterloo\, ON\, Canada
CATEGORIES:Arts, Culture, Heritage & Live Performance,Event,Family Friendly,Free Events
ATTACH;FMTTYPE=image/jpeg:https://files.explorewaterloo.ca/uploads/2025/07/event-eb97fb4351c6912e7a1914bb86ee2d7a.jpg
ORGANIZER;CN="City of Waterloo Museum":MAILTO:museum@waterloo.ca
END:VEVENT
BEGIN:VEVENT
DTSTART;TZID=America/Toronto:20260430T100000
DTEND;TZID=America/Toronto:20260430T160000
DTSTAMP:20260421T070119
CREATED:20260421T070029Z
LAST-MODIFIED:20260421T070030Z
UID:10645078-1777543200-1777564800@explorewaterloo.ca
SUMMARY:A Distiller’s Tale: The Art and Legacy of the Seagram Distillery
DESCRIPTION:Discover the rich history\, craftsmanship\, and local impact of Waterloo’s iconic whisky industry in a fun\, family-friendly environment. This engaging exhibit features hands-on interactives for all ages\, making it a perfect outing for curious minds. Visit us at Conestoga Mall — and remember\, admission is always free! On until May 1\, 2026.
URL:https://explorewaterloo.ca/event/a-distillers-tale-the-art-and-legacy-of-the-seagram-distillery/2026-04-30/
LOCATION:City of Waterloo Museum\, 550 King Street North\, Waterloo\, ON\, Canada
CATEGORIES:Arts, Culture, Heritage & Live Performance,Event,Family Friendly,Free Events
ATTACH;FMTTYPE=image/jpeg:https://files.explorewaterloo.ca/uploads/2025/07/event-eb97fb4351c6912e7a1914bb86ee2d7a.jpg
ORGANIZER;CN="City of Waterloo Museum":MAILTO:museum@waterloo.ca
END:VEVENT
BEGIN:VEVENT
DTSTART;TZID=America/Toronto:20260501T100000
DTEND;TZID=America/Toronto:20260501T160000
DTSTAMP:20260421T070120
CREATED:20260421T070029Z
LAST-MODIFIED:20260421T070030Z
UID:10645079-1777629600-1777651200@explorewaterloo.ca
SUMMARY:A Distiller’s Tale: The Art and Legacy of the Seagram Distillery
DESCRIPTION:Discover the rich history\, craftsmanship\, and local impact of Waterloo’s iconic whisky industry in a fun\, family-friendly environment. This engaging exhibit features hands-on interactives for all ages\, making it a perfect outing for curious minds. Visit us at Conestoga Mall — and remember\, admission is always free! On until May 1\, 2026.
URL:https://explorewaterloo.ca/event/a-distillers-tale-the-art-and-legacy-of-the-seagram-distillery/2026-05-01/
LOCATION:City of Waterloo Museum\, 550 King Street North\, Waterloo\, ON\, Canada
CATEGORIES:Arts, Culture, Heritage & Live Performance,Event,Family Friendly,Free Events
ATTACH;FMTTYPE=image/jpeg:https://files.explorewaterloo.ca/uploads/2025/07/event-eb97fb4351c6912e7a1914bb86ee2d7a.jpg
ORGANIZER;CN="City of Waterloo Museum":MAILTO:museum@waterloo.ca
END:VEVENT
END:VCALENDAR