BEGIN:VCALENDAR
VERSION:2.0
PRODID:-//Explore Waterloo Region - ECPv6.15.19//NONSGML v1.0//EN
CALSCALE:GREGORIAN
METHOD:PUBLISH
X-WR-CALNAME:Explore Waterloo Region
X-ORIGINAL-URL:https://explorewaterloo.ca
X-WR-CALDESC:Events for Explore Waterloo Region
REFRESH-INTERVAL;VALUE=DURATION:PT1H
X-Robots-Tag:noindex
X-PUBLISHED-TTL:PT1H
BEGIN:VTIMEZONE
TZID:America/Toronto
BEGIN:DAYLIGHT
TZOFFSETFROM:-0500
TZOFFSETTO:-0400
TZNAME:EDT
DTSTART:20250309T070000
END:DAYLIGHT
BEGIN:STANDARD
TZOFFSETFROM:-0400
TZOFFSETTO:-0500
TZNAME:EST
DTSTART:20251102T060000
END:STANDARD
BEGIN:DAYLIGHT
TZOFFSETFROM:-0500
TZOFFSETTO:-0400
TZNAME:EDT
DTSTART:20260308T070000
END:DAYLIGHT
BEGIN:STANDARD
TZOFFSETFROM:-0400
TZOFFSETTO:-0500
TZNAME:EST
DTSTART:20261101T060000
END:STANDARD
BEGIN:DAYLIGHT
TZOFFSETFROM:-0500
TZOFFSETTO:-0400
TZNAME:EDT
DTSTART:20270314T070000
END:DAYLIGHT
BEGIN:STANDARD
TZOFFSETFROM:-0400
TZOFFSETTO:-0500
TZNAME:EST
DTSTART:20271107T060000
END:STANDARD
END:VTIMEZONE
BEGIN:VEVENT
DTSTART;TZID=America/Toronto:20260423T093000
DTEND;TZID=America/Toronto:20260423T113000
DTSTAMP:20260421T072222
CREATED:20260421T070039Z
LAST-MODIFIED:20260421T070039Z
UID:10645774-1776936600-1776943800@explorewaterloo.ca
SUMMARY:St Jacobs Market Food Tour
DESCRIPTION:Sweet\, sour\, salty\, savoury & spicy… this is what a farmer’s market tastes like! Join us for a guided journey through Mennonite food\, culture and history\, tasting the best local vendors at the famous St. Jacobs Farmer’s Market.  When you join the curated St Jacobs Market Food Tour\, you will sink your teeth into food traditions\, market history\, the expertise of women and men that grow and produce the food they sell every week and most importantly…treat samples for the foodie in you!This Market Food Tour is for people who care about what they eat\, where it comes from and want to talk about it!  Get to know the St. Jacobs Farmer’s Market in a whole new way and taste why everyone returns again and again to the largest year-round farmer’s market in Canada!  
URL:https://explorewaterloo.ca/event/st-jacobs-market-food-tour/2026-04-23/
LOCATION:Log Cabin – St. Jacobs Farmers’ Market\, 878 Weber St N\, Woolwich\, ON N2J 4A9\, ON\, Canada
CATEGORIES:Food & Drink
ATTACH;FMTTYPE=image/jpeg:https://files.explorewaterloo.ca/uploads/2025/11/event-b28a4e205badd008cd382830167c98c9.jpg
ORGANIZER;CN="Juanita Metzger":MAILTO:juanita@strollwalkingtours.com
END:VEVENT
BEGIN:VEVENT
DTSTART;TZID=America/Toronto:20260430T093000
DTEND;TZID=America/Toronto:20260430T113000
DTSTAMP:20260421T072222
CREATED:20260421T070039Z
LAST-MODIFIED:20260421T070039Z
UID:10645775-1777541400-1777548600@explorewaterloo.ca
SUMMARY:St Jacobs Market Food Tour
DESCRIPTION:Sweet\, sour\, salty\, savoury & spicy… this is what a farmer’s market tastes like! Join us for a guided journey through Mennonite food\, culture and history\, tasting the best local vendors at the famous St. Jacobs Farmer’s Market.  When you join the curated St Jacobs Market Food Tour\, you will sink your teeth into food traditions\, market history\, the expertise of women and men that grow and produce the food they sell every week and most importantly…treat samples for the foodie in you!This Market Food Tour is for people who care about what they eat\, where it comes from and want to talk about it!  Get to know the St. Jacobs Farmer’s Market in a whole new way and taste why everyone returns again and again to the largest year-round farmer’s market in Canada!  
URL:https://explorewaterloo.ca/event/st-jacobs-market-food-tour/2026-04-30/
LOCATION:Log Cabin – St. Jacobs Farmers’ Market\, 878 Weber St N\, Woolwich\, ON N2J 4A9\, ON\, Canada
CATEGORIES:Food & Drink
ATTACH;FMTTYPE=image/jpeg:https://files.explorewaterloo.ca/uploads/2025/11/event-b28a4e205badd008cd382830167c98c9.jpg
ORGANIZER;CN="Juanita Metzger":MAILTO:juanita@strollwalkingtours.com
END:VEVENT
END:VCALENDAR