BEGIN:VCALENDAR
VERSION:2.0
PRODID:-//Explore Waterloo Region - ECPv6.15.19//NONSGML v1.0//EN
CALSCALE:GREGORIAN
METHOD:PUBLISH
X-WR-CALNAME:Explore Waterloo Region
X-ORIGINAL-URL:https://explorewaterloo.ca
X-WR-CALDESC:Events for Explore Waterloo Region
REFRESH-INTERVAL;VALUE=DURATION:PT1H
X-Robots-Tag:noindex
X-PUBLISHED-TTL:PT1H
BEGIN:VTIMEZONE
TZID:America/Toronto
BEGIN:DAYLIGHT
TZOFFSETFROM:-0500
TZOFFSETTO:-0400
TZNAME:EDT
DTSTART:20250309T070000
END:DAYLIGHT
BEGIN:STANDARD
TZOFFSETFROM:-0400
TZOFFSETTO:-0500
TZNAME:EST
DTSTART:20251102T060000
END:STANDARD
BEGIN:DAYLIGHT
TZOFFSETFROM:-0500
TZOFFSETTO:-0400
TZNAME:EDT
DTSTART:20260308T070000
END:DAYLIGHT
BEGIN:STANDARD
TZOFFSETFROM:-0400
TZOFFSETTO:-0500
TZNAME:EST
DTSTART:20261101T060000
END:STANDARD
BEGIN:DAYLIGHT
TZOFFSETFROM:-0500
TZOFFSETTO:-0400
TZNAME:EDT
DTSTART:20270314T070000
END:DAYLIGHT
BEGIN:STANDARD
TZOFFSETFROM:-0400
TZOFFSETTO:-0500
TZNAME:EST
DTSTART:20271107T060000
END:STANDARD
END:VTIMEZONE
BEGIN:VEVENT
DTSTART;TZID=America/Toronto:20260423T183000
DTEND;TZID=America/Toronto:20260423T193000
DTSTAMP:20260421T131611
CREATED:20260421T070046Z
LAST-MODIFIED:20260421T070046Z
UID:10645903-1776969000-1776972600@explorewaterloo.ca
SUMMARY:Gwan Move Soca Drip
DESCRIPTION:Come out and join your girl Guyanese Fit Chick in the GWAN MOVE Soca fitness classes. Check out this 4 week Soca workshop! Suitable for levels. The sale begins now. Bring a friend and catch the 2 for 1 deal or the single admissions Location: Fireside Haven Studio 54 Guelph Ave. Unit 1 Cambridge\, ON   Schedule classes are: Thursday\, April 2 – 630pm Tuesday- April 14 – 630pm Thursday April 23 – 630pm Thursday April 30 – 630pm Let’s get this party started!  
URL:https://explorewaterloo.ca/event/gwan-move-soca-drip/2026-04-23/
LOCATION:Fireside Haven Studio\, 54 Guelph Street\, Cambridge\, ON\, N3C 1A3\, Canada
CATEGORIES:Ongoing Events
ATTACH;FMTTYPE=image/jpeg:https://files.explorewaterloo.ca/uploads/2026/03/event-fdf23261f2948f21fed29b8cf2a2041d.png
ORGANIZER;CN="Gayle Smith":MAILTO:info@gwanmove.com
END:VEVENT
BEGIN:VEVENT
DTSTART;TZID=America/Toronto:20260430T183000
DTEND;TZID=America/Toronto:20260430T193000
DTSTAMP:20260421T131611
CREATED:20260421T070046Z
LAST-MODIFIED:20260421T070046Z
UID:10645904-1777573800-1777577400@explorewaterloo.ca
SUMMARY:Gwan Move Soca Drip
DESCRIPTION:Come out and join your girl Guyanese Fit Chick in the GWAN MOVE Soca fitness classes. Check out this 4 week Soca workshop! Suitable for levels. The sale begins now. Bring a friend and catch the 2 for 1 deal or the single admissions Location: Fireside Haven Studio 54 Guelph Ave. Unit 1 Cambridge\, ON   Schedule classes are: Thursday\, April 2 – 630pm Tuesday- April 14 – 630pm Thursday April 23 – 630pm Thursday April 30 – 630pm Let’s get this party started!  
URL:https://explorewaterloo.ca/event/gwan-move-soca-drip/2026-04-30/
LOCATION:Fireside Haven Studio\, 54 Guelph Street\, Cambridge\, ON\, N3C 1A3\, Canada
CATEGORIES:Ongoing Events
ATTACH;FMTTYPE=image/jpeg:https://files.explorewaterloo.ca/uploads/2026/03/event-fdf23261f2948f21fed29b8cf2a2041d.png
ORGANIZER;CN="Gayle Smith":MAILTO:info@gwanmove.com
END:VEVENT
END:VCALENDAR