BEGIN:VCALENDAR
VERSION:2.0
PRODID:-//Explore Waterloo Region - ECPv6.15.19//NONSGML v1.0//EN
CALSCALE:GREGORIAN
METHOD:PUBLISH
X-WR-CALNAME:Explore Waterloo Region
X-ORIGINAL-URL:https://explorewaterloo.ca
X-WR-CALDESC:Events for Explore Waterloo Region
REFRESH-INTERVAL;VALUE=DURATION:PT1H
X-Robots-Tag:noindex
X-PUBLISHED-TTL:PT1H
BEGIN:VTIMEZONE
TZID:America/Toronto
BEGIN:DAYLIGHT
TZOFFSETFROM:-0500
TZOFFSETTO:-0400
TZNAME:EDT
DTSTART:20250309T070000
END:DAYLIGHT
BEGIN:STANDARD
TZOFFSETFROM:-0400
TZOFFSETTO:-0500
TZNAME:EST
DTSTART:20251102T060000
END:STANDARD
BEGIN:DAYLIGHT
TZOFFSETFROM:-0500
TZOFFSETTO:-0400
TZNAME:EDT
DTSTART:20260308T070000
END:DAYLIGHT
BEGIN:STANDARD
TZOFFSETFROM:-0400
TZOFFSETTO:-0500
TZNAME:EST
DTSTART:20261101T060000
END:STANDARD
BEGIN:DAYLIGHT
TZOFFSETFROM:-0500
TZOFFSETTO:-0400
TZNAME:EDT
DTSTART:20270314T070000
END:DAYLIGHT
BEGIN:STANDARD
TZOFFSETFROM:-0400
TZOFFSETTO:-0500
TZNAME:EST
DTSTART:20271107T060000
END:STANDARD
END:VTIMEZONE
BEGIN:VEVENT
DTSTART;TZID=America/Toronto:20260501T160000
DTEND;TZID=America/Toronto:20260501T203000
DTSTAMP:20260421T130004
CREATED:20260421T070131Z
LAST-MODIFIED:20260421T070132Z
UID:10644840-1777651200-1777667400@explorewaterloo.ca
SUMMARY:Cambridge Potters Market
DESCRIPTION:Discover beautiful\, handmade ceramics at the annual Cambridge Potters Market\, a two day celebration of talented local pottery artists. Browse functional and sculptural works\, meet the makers behind the clay\, and find one of a kind pieces for your home or as thoughtful gifts. Enjoy complimentary pottery demonstrations throughout the event. The Potters Market is located on Floor 1 at the Cambridge Centre for the Arts. Cash is preferred\, as not all vendors accept credit cards (ATM available on site). Visitors are encouraged to bring their own reusable bags.  
URL:https://explorewaterloo.ca/event/cambridge-potters-market/2026-05-01/
LOCATION:Cambridge Centre for the Arts\, 60 Dickson Street\, Cambridge\, ON N1R 8N1\, N1R 8N1\, ON\, Canada
CATEGORIES:Arts, Culture, Heritage & Live Performance
ATTACH;FMTTYPE=image/jpeg:https://files.explorewaterloo.ca/uploads/2026/04/event-0e6527112448485229c0694a4ff3054b.jpg
ORGANIZER;CN="Cambridge Centre for the Arts":MAILTO:artcentre@cambridge.ca
END:VEVENT
BEGIN:VEVENT
DTSTART;TZID=America/Toronto:20260502T090000
DTEND;TZID=America/Toronto:20260502T160000
DTSTAMP:20260421T130004
CREATED:20260421T070131Z
LAST-MODIFIED:20260421T070132Z
UID:10645932-1777712400-1777737600@explorewaterloo.ca
SUMMARY:Cambridge Potters Market
DESCRIPTION:Discover beautiful\, handmade ceramics at the annual Cambridge Potters Market\, a two day celebration of talented local pottery artists. Browse functional and sculptural works\, meet the makers behind the clay\, and find one of a kind pieces for your home or as thoughtful gifts. Enjoy complimentary pottery demonstrations throughout the event. The Potters Market is located on Floor 1 at the Cambridge Centre for the Arts. Cash is preferred\, as not all vendors accept credit cards (ATM available on site). Visitors are encouraged to bring their own reusable bags.  
URL:https://explorewaterloo.ca/event/cambridge-potters-market/2026-05-02/
LOCATION:Cambridge Centre for the Arts\, 60 Dickson Street\, Cambridge\, ON N1R 8N1\, N1R 8N1\, ON\, Canada
CATEGORIES:Arts, Culture, Heritage & Live Performance
ATTACH;FMTTYPE=image/jpeg:https://files.explorewaterloo.ca/uploads/2026/04/event-0e6527112448485229c0694a4ff3054b.jpg
ORGANIZER;CN="Cambridge Centre for the Arts":MAILTO:artcentre@cambridge.ca
END:VEVENT
END:VCALENDAR