BEGIN:VCALENDAR
VERSION:2.0
PRODID:-//Explore Waterloo Region - ECPv6.15.19//NONSGML v1.0//EN
CALSCALE:GREGORIAN
METHOD:PUBLISH
X-WR-CALNAME:Explore Waterloo Region
X-ORIGINAL-URL:https://explorewaterloo.ca
X-WR-CALDESC:Events for Explore Waterloo Region
REFRESH-INTERVAL;VALUE=DURATION:PT1H
X-Robots-Tag:noindex
X-PUBLISHED-TTL:PT1H
BEGIN:VTIMEZONE
TZID:America/Toronto
BEGIN:DAYLIGHT
TZOFFSETFROM:-0500
TZOFFSETTO:-0400
TZNAME:EDT
DTSTART:20250309T070000
END:DAYLIGHT
BEGIN:STANDARD
TZOFFSETFROM:-0400
TZOFFSETTO:-0500
TZNAME:EST
DTSTART:20251102T060000
END:STANDARD
BEGIN:DAYLIGHT
TZOFFSETFROM:-0500
TZOFFSETTO:-0400
TZNAME:EDT
DTSTART:20260308T070000
END:DAYLIGHT
BEGIN:STANDARD
TZOFFSETFROM:-0400
TZOFFSETTO:-0500
TZNAME:EST
DTSTART:20261101T060000
END:STANDARD
BEGIN:DAYLIGHT
TZOFFSETFROM:-0500
TZOFFSETTO:-0400
TZNAME:EDT
DTSTART:20270314T070000
END:DAYLIGHT
BEGIN:STANDARD
TZOFFSETFROM:-0400
TZOFFSETTO:-0500
TZNAME:EST
DTSTART:20271107T060000
END:STANDARD
END:VTIMEZONE
BEGIN:VEVENT
DTSTART;TZID=America/Toronto:20260827T190000
DTEND;TZID=America/Toronto:20260827T230000
DTSTAMP:20260421T222340
CREATED:20260421T190650Z
LAST-MODIFIED:20260421T190651Z
UID:10646185-1787857200-1787871600@explorewaterloo.ca
SUMMARY:Sun Life Waterloo Busker Carnival
DESCRIPTION:The Sun Life Waterloo Busker Carnival is a long-standing\, 4-day international street performers festival in Uptown Waterloo\, drawing over 50\,000 attendees annually and heading into its 38th year in 2026.  Here\, world-class buskers—including jugglers\, acrobats\, contortionists\, comedians\, fire acts\, and musicians—gather crowds\, perform incredible acts\, and then “pass the hat.” Many of our buskers have trained at prestigious circus schools or Cirque du Soleil\, with performers from Canada\, the U.S.\, Ireland\, Australia\, Mexico\, Estonia\, and England to name a few. With over 50 scheduled performances across the weekend\, plus roaming entertainers\, special events\, two spectacular fire shows\, a large variety of food trucks and vendors\, midway rides\, and Artist Alley\, the carnival offers something for everyone. Uniquely\, the festival is accessible to all—attendees watch the show and decide what to pay based on what they can give\, making it possible for everyone to enjoy high-quality entertainment regardless of financial means. Entirely volunteer-driven\, the event brings the community together in an inclusive atmosphere\, creating a true celebration of summer’s end for attendees of all ages. Festival and Events Ontario – Top 100 Festival and Events Award 2025  
URL:https://explorewaterloo.ca/event/sun-life-waterloo-busker-carnival/2026-08-27/
LOCATION:Waterloo Public Square\, 75 King Street South\, Waterloo\, ON\, N2J 1P2\, Canada
CATEGORIES:Festivals
ATTACH;FMTTYPE=image/jpeg:https://files.explorewaterloo.ca/uploads/2025/02/event-783a96b42f432155421e43f75cd8a455.jpeg
ORGANIZER;CN="Randy Warren":MAILTO:chair@waterloobuskers.com
END:VEVENT
BEGIN:VEVENT
DTSTART;TZID=America/Toronto:20260828T110000
DTEND;TZID=America/Toronto:20260828T230000
DTSTAMP:20260421T222340
CREATED:20260421T190650Z
LAST-MODIFIED:20260421T190651Z
UID:10647127-1787914800-1787958000@explorewaterloo.ca
SUMMARY:Sun Life Waterloo Busker Carnival
DESCRIPTION:The Sun Life Waterloo Busker Carnival is a long-standing\, 4-day international street performers festival in Uptown Waterloo\, drawing over 50\,000 attendees annually and heading into its 38th year in 2026.  Here\, world-class buskers—including jugglers\, acrobats\, contortionists\, comedians\, fire acts\, and musicians—gather crowds\, perform incredible acts\, and then “pass the hat.” Many of our buskers have trained at prestigious circus schools or Cirque du Soleil\, with performers from Canada\, the U.S.\, Ireland\, Australia\, Mexico\, Estonia\, and England to name a few. With over 50 scheduled performances across the weekend\, plus roaming entertainers\, special events\, two spectacular fire shows\, a large variety of food trucks and vendors\, midway rides\, and Artist Alley\, the carnival offers something for everyone. Uniquely\, the festival is accessible to all—attendees watch the show and decide what to pay based on what they can give\, making it possible for everyone to enjoy high-quality entertainment regardless of financial means. Entirely volunteer-driven\, the event brings the community together in an inclusive atmosphere\, creating a true celebration of summer’s end for attendees of all ages. Festival and Events Ontario – Top 100 Festival and Events Award 2025  
URL:https://explorewaterloo.ca/event/sun-life-waterloo-busker-carnival/2026-08-28/
LOCATION:Waterloo Public Square\, 75 King Street South\, Waterloo\, ON\, N2J 1P2\, Canada
CATEGORIES:Festivals
ATTACH;FMTTYPE=image/jpeg:https://files.explorewaterloo.ca/uploads/2025/02/event-783a96b42f432155421e43f75cd8a455.jpeg
ORGANIZER;CN="Randy Warren":MAILTO:chair@waterloobuskers.com
END:VEVENT
BEGIN:VEVENT
DTSTART;TZID=America/Toronto:20260829T110000
DTEND;TZID=America/Toronto:20260829T230000
DTSTAMP:20260421T222340
CREATED:20260421T190650Z
LAST-MODIFIED:20260421T190651Z
UID:10647128-1788001200-1788044400@explorewaterloo.ca
SUMMARY:Sun Life Waterloo Busker Carnival
DESCRIPTION:The Sun Life Waterloo Busker Carnival is a long-standing\, 4-day international street performers festival in Uptown Waterloo\, drawing over 50\,000 attendees annually and heading into its 38th year in 2026.  Here\, world-class buskers—including jugglers\, acrobats\, contortionists\, comedians\, fire acts\, and musicians—gather crowds\, perform incredible acts\, and then “pass the hat.” Many of our buskers have trained at prestigious circus schools or Cirque du Soleil\, with performers from Canada\, the U.S.\, Ireland\, Australia\, Mexico\, Estonia\, and England to name a few. With over 50 scheduled performances across the weekend\, plus roaming entertainers\, special events\, two spectacular fire shows\, a large variety of food trucks and vendors\, midway rides\, and Artist Alley\, the carnival offers something for everyone. Uniquely\, the festival is accessible to all—attendees watch the show and decide what to pay based on what they can give\, making it possible for everyone to enjoy high-quality entertainment regardless of financial means. Entirely volunteer-driven\, the event brings the community together in an inclusive atmosphere\, creating a true celebration of summer’s end for attendees of all ages. Festival and Events Ontario – Top 100 Festival and Events Award 2025  
URL:https://explorewaterloo.ca/event/sun-life-waterloo-busker-carnival/2026-08-29/
LOCATION:Waterloo Public Square\, 75 King Street South\, Waterloo\, ON\, N2J 1P2\, Canada
CATEGORIES:Festivals
ATTACH;FMTTYPE=image/jpeg:https://files.explorewaterloo.ca/uploads/2025/02/event-783a96b42f432155421e43f75cd8a455.jpeg
ORGANIZER;CN="Randy Warren":MAILTO:chair@waterloobuskers.com
END:VEVENT
BEGIN:VEVENT
DTSTART;TZID=America/Toronto:20260830T110000
DTEND;TZID=America/Toronto:20260830T170000
DTSTAMP:20260421T222340
CREATED:20260421T190650Z
LAST-MODIFIED:20260421T190651Z
UID:10647129-1788087600-1788109200@explorewaterloo.ca
SUMMARY:Sun Life Waterloo Busker Carnival
DESCRIPTION:The Sun Life Waterloo Busker Carnival is a long-standing\, 4-day international street performers festival in Uptown Waterloo\, drawing over 50\,000 attendees annually and heading into its 38th year in 2026.  Here\, world-class buskers—including jugglers\, acrobats\, contortionists\, comedians\, fire acts\, and musicians—gather crowds\, perform incredible acts\, and then “pass the hat.” Many of our buskers have trained at prestigious circus schools or Cirque du Soleil\, with performers from Canada\, the U.S.\, Ireland\, Australia\, Mexico\, Estonia\, and England to name a few. With over 50 scheduled performances across the weekend\, plus roaming entertainers\, special events\, two spectacular fire shows\, a large variety of food trucks and vendors\, midway rides\, and Artist Alley\, the carnival offers something for everyone. Uniquely\, the festival is accessible to all—attendees watch the show and decide what to pay based on what they can give\, making it possible for everyone to enjoy high-quality entertainment regardless of financial means. Entirely volunteer-driven\, the event brings the community together in an inclusive atmosphere\, creating a true celebration of summer’s end for attendees of all ages. Festival and Events Ontario – Top 100 Festival and Events Award 2025  
URL:https://explorewaterloo.ca/event/sun-life-waterloo-busker-carnival/2026-08-30/
LOCATION:Waterloo Public Square\, 75 King Street South\, Waterloo\, ON\, N2J 1P2\, Canada
CATEGORIES:Festivals
ATTACH;FMTTYPE=image/jpeg:https://files.explorewaterloo.ca/uploads/2025/02/event-783a96b42f432155421e43f75cd8a455.jpeg
ORGANIZER;CN="Randy Warren":MAILTO:chair@waterloobuskers.com
END:VEVENT
END:VCALENDAR